BEGIN:VCALENDAR
VERSION:2.0
PRODID:-//ChamberMaster//Event Calendar 2.0//EN
METHOD:PUBLISH
X-PUBLISHED-TTL:P3D
REFRESH-INTERVAL:P3D
CALSCALE:GREGORIAN
BEGIN:VEVENT
DTSTART:20150725T133000Z
DTEND:20150725T143000Z
X-MICROSOFT-CDO-ALLDAYEVENT:FALSE
SUMMARY:Saturday Core Strengthening Yoga
DESCRIPTION:Start your weekend off at Lol  Southport Chicago with this power vinyasa style yoga class with a focus on strengthening your core taught by Katy The Yogini. This class will give you a full body stretch as well as functional movement training to help you in your daily life. Perfect for all levels! Participants will receive 20% off full price items. Mats available on a first come first serve basis. Follow on instagram: @katytheyogini
X-ALT-DESC;FMTTYPE=text/html:Start your weekend off at Lol&euml\; Southport Chicago with this power vinyasa style yoga class with a focus on strengthening your core taught by Katy The Yogini. This class will give you a full body stretch as well as functional movement training to help you in your daily life. Perfect for all levels! Participants will receive 20% off full price items. Mats available on a first come first serve basis. Follow on instagram: @katytheyogini
LOCATION:Lol 3434 N Southport Chicago\, IL 60657
UID:e.1819.1785
SEQUENCE:3
DTSTAMP:20260423T061025Z
URL:https://members.lakeviewroscoevillage.org/events/details/saturday-core-strengthening-yoga-07-25-2015-1785
END:VEVENT

END:VCALENDAR
