BEGIN:VCALENDAR
VERSION:2.0
PRODID:-//ChamberMaster//Event Calendar 2.0//EN
METHOD:PUBLISH
X-PUBLISHED-TTL:P3D
REFRESH-INTERVAL:P3D
CALSCALE:GREGORIAN
BEGIN:VEVENT
DTSTART:20150318T163000Z
DTEND:20150318T183000Z
X-MICROSOFT-CDO-ALLDAYEVENT:FALSE
SUMMARY:SBDC Onsite Consultation Services
DESCRIPTION:Onsite Consultation Services Synopsis \n\nAdvisers at the Chicagoland Chamber of Commerce Small Business Development Center ("SBDC") are ready to answer your business questions. Our advisers have real-world business management experience and are willing to help you with questions regarding topics such as business planning\, business management\, financial statement analysis\, cash flow management\, record-keeping\, bank financing\, exports and imports\, developing personnel policies\, marketing planning and product innovation. \n\nThe SBDC provides free\, confidential one-on-one advising for all stages of small business development including: Pre-venture assistance\, start up and established business services\, as well as advising on new products and initiatives.\n\n\n\nEmail Laine Vitosh\, Associate Director at LCC\, to sign up for your 30min. Consultation. lvitosh@lakeviewchamber.com
X-ALT-DESC;FMTTYPE=text/html:<u style="line-height: 20.7999992370605px\;"><span style="font-family: arial\; font-size: 12px\; line-height: 19.2000007629395px\;">Onsite Consultation Services Synopsis&nbsp\;</span></u><br style="line-height: 20.7999992370605px\;" />\n<span style="font-size: 12px\;"><span style="font-family: arial\;"><span style="color: black\;">Advisers at the&nbsp\;Chicagoland&nbsp\;Chamber of Commerce Small Business Development Center (&ldquo\;SBDC&rdquo\;) are ready to answer your business questions. Our advisers have real-world business management experience and are willing to help you with questions regarding topics such as business planning\, business management\, financial statement analysis\, cash flow management\, record-keeping\, bank financing\, exports and imports\, developing personnel policies\, marketing planning and product innovation.&nbsp\;</span><br />\n<span style="color: black\;">The&nbsp\;SBDC&nbsp\;provides free\, confidential one-on-one advising for all stages of small business development including: Pre-venture assistance\, start up and established business services\, as well as advising on new products and initiatives.<br />\n<br />\nEmail Laine Vitosh\, Associate Director at LCC\, to sign up for your 30min. Consultation. lvitosh@lakeviewchamber.com</span></span></span><br />\n&nbsp\;
LOCATION:1409 W Addison Chicago\, IL 60613
UID:e.1819.1500
SEQUENCE:3
DTSTAMP:20260423T132641Z
URL:https://members.lakeviewroscoevillage.org/events/details/sbdc-onsite-consultation-services-03-18-2015-1500
END:VEVENT

END:VCALENDAR
