BEGIN:VCALENDAR
VERSION:2.0
PRODID:-//ChamberMaster//Event Calendar 2.0//EN
METHOD:PUBLISH
X-PUBLISHED-TTL:P3D
REFRESH-INTERVAL:P3D
CALSCALE:GREGORIAN
BEGIN:VEVENT
DTSTART:20170219T013000Z
DTEND:20170219T013000Z
X-MICROSOFT-CDO-ALLDAYEVENT:FALSE
SUMMARY:Scarlet\, A Dance/Film Hybrid
DESCRIPTION:Ballet 5:8's groundbreaking production uses classical ballet and film to bring a story inspired by Nathaniel Hawthorne'sThe Scarlet Letter to life. Scarlet features original choreography by Ballet 5:8 Artistic Director Julianna Slager\, film elements directed by choreographer and film producer Preston Miller\, spoken word by Chicago-based artist Kylla Pate\, and a score by American modernist composer Charles Ives.The full-length ballet follows the iconic Hester Prynne as she wrestles with her open guilt and grief in a judgmental society\, while Reverend Dimmesdale suffers in silence with his secret sin and love. This classic story delves into the timeless struggles of hypocrisy\, shame and ultimately\, the hope of redemption.\n\n\n\nAbout Ballet 5:8 - Founded in 2012\, Ballet 5:8 is a Chicago ballet company dedicated to engaging audiences and artists through the creation and performance of breathtaking dance. The mission of Ballet is 5:8 is to employ artistic ingenuity\, innovation and excellence as we celebrate the exchange of ideas in the creative realm. Ballet 5:8's performances combine a passion for the quality within the dance field with a commitment to a wide public audience that incorporates low ticket prices\, appearances in accessible community venues and the presentation of relevant subject matter.
X-ALT-DESC;FMTTYPE=text/html:<span style="color: rgb(34\, 34\, 34)\; font-family: arial\, sans-serif\; font-size: 12.8px\;">Ballet 5:8&rsquo\;s groundbreaking&nbsp\;production uses classical ballet and film to bring a story inspired by Nathaniel Hawthorne&rsquo\;s<i>The Scarlet Letter&nbsp\;</i>to life.&nbsp\;</span><span style="color: rgb(34\, 34\, 34)\; font-family: arial\, sans-serif\; font-size: 12.8px\; line-height: 1.4em\;"><i>Scarlet</i>&nbsp\;features original choreography by Ballet 5:8 Artistic Director Julianna Slager\, film elements directed by choreographer and film producer Preston Miller\, spoken word by Chicago-based artist Kylla Pate\, and a score by American modernist composer Charles Ives.The full-length ballet follows the iconic Hester Prynne as she wrestles with her open guilt and grief in a judgmental society\, while Reverend Dimmesdale suffers in silence with his secret sin and love. This classic story delves into the timeless struggles of hypocrisy\, shame and ultimately\, the hope of redemption.</span><br />\n<br />\n<span style="color: rgb(34\, 34\, 34)\; font-family: arial\, sans-serif\; font-size: 12.8px\; background-color: rgb(255\, 255\, 255)\;"><span style="line-height: 1.4em\;">About Ballet 5:8 -&nbsp\;</span></span><span style="color: rgb(34\, 34\, 34)\; font-family: arial\, sans-serif\; font-size: 12.8px\; background-color: rgb(255\, 255\, 255)\; line-height: 14.72px\;">Founded in 2012\, Ballet 5:8 is a Chicago ballet company dedicated to engaging audiences and artists through the creation and performance of breathtaking dance. The mission of Ballet is 5:8 is to employ artistic ingenuity\, innovation and excellence as we celebrate the exchange of ideas in the creative realm. Ballet 5:8&rsquo\;s performances combine a passion for the quality within the dance field with a commitment to a wide public audience that incorporates low ticket prices\, appearances in accessible community venues and the presentation of relevant subject matter.</span>
LOCATION:The Athenaeum Theatre\, 2936 N. Southport Ave.
UID:e.1819.5000
SEQUENCE:3
DTSTAMP:20260420T030812Z
URL:https://members.lakeviewroscoevillage.org/events/details/scarlet-a-dance-film-hybrid-02-18-2017-5000
END:VEVENT

END:VCALENDAR
