BEGIN:VCALENDAR
VERSION:2.0
PRODID:-//ChamberMaster//Event Calendar 2.0//EN
METHOD:PUBLISH
X-PUBLISHED-TTL:P3D
REFRESH-INTERVAL:P3D
CALSCALE:GREGORIAN
BEGIN:VEVENT
DTSTART:20180101T030000Z
DTEND:20180101T080000Z
X-MICROSOFT-CDO-ALLDAYEVENT:FALSE
SUMMARY:Schoolyard Tavern New Years Eve
DESCRIPTION:Ring in the New Year at Schoolyard! Get your ticket for our AWESOME package\, today. $50 ticket includes Premium bar\, passed appetizers & champagne toast at midnight!
X-ALT-DESC;FMTTYPE=text/html:<span style="background-image:initial\;background-position:initial\;background-size:initial\;background-repeat:initial\;background-attachment:initial\;background-origin:initial\;background-clip:initial\;"><span style="font-family:calibri\,sans-serif\;"><span style="font-size:10.5pt\;">Ring in the New Year at Schoolyard! Get your ticket for our AWESOME package\, today. $50 ticket includes Premium&nbsp\;bar\, passed appetizers &amp\; champagne toast at midnight!</span></span></span>
LOCATION:Schoolyard Tavern 3258 N Southport
UID:e.1819.11455
SEQUENCE:3
DTSTAMP:20260419T124720Z
URL:https://members.lakeviewroscoevillage.org/events/details/schoolyard-tavern-new-years-eve-12-31-2017-11455
END:VEVENT

END:VCALENDAR
