BEGIN:VCALENDAR
VERSION:2.0
PRODID:-//ChamberMaster//Event Calendar 2.0//EN
METHOD:PUBLISH
X-PUBLISHED-TTL:P3D
REFRESH-INTERVAL:P3D
CALSCALE:GREGORIAN
BEGIN:VEVENT
DTSTART;VALUE=DATE:20150306
DTEND;VALUE=DATE:20150309
TRANSP:TRANSPARENT
X-MICROSOFT-CDO-ALLDAYEVENT:TRUE
SUMMARY:Shen Yun Show Chicago
DESCRIPTION:EMBARK on an extraordinary journey across 5\,000 years of Chinese civilization. From ancient dynasties to the modern day\, witness inspiring stories and legends come alive on stage. Featuring classical Chinese dance\, a full orchestra\, exquisite costumes\, and dazzling animated backdrops\, Shen Yun will transport you to another world.\n\n\n\nPurchase tickets HERE
X-ALT-DESC;FMTTYPE=text/html:<span style="font-family: Georgia\, 'Times New Roman'\, Times\, serif\; font-size: 18.6666660308838px\; line-height: 26.6666660308838px\; color: rgb(1\, 172\, 153)\;">EMBARK</span><span style="color: rgb(0\, 0\, 0)\; font-family: Georgia\, 'Times New Roman'\, Times\, serif\; font-size: 18.6666660308838px\; line-height: 26.6666660308838px\;">&nbsp\;on an extraordinary journey across 5\,000 years of Chinese civilization. From ancient dynasties to the modern day\, witness inspiring stories and legends come alive on stage. Featuring classical Chinese dance\, a full orchestra\, exquisite costumes\, and dazzling animated backdrops\, Shen Yun will transport you to another world.<br />\n<br />\nPurchase tickets <a href="http://www.ticketmaster.com/venueartist/57562/1354996">HERE</a></span>
LOCATION:Cadillac Palace Theatre Chciago\, IL
UID:e.1819.1502
SEQUENCE:3
DTSTAMP:20260423T151909Z
URL:https://members.lakeviewroscoevillage.org/events/details/shen-yun-show-chicago-03-06-2015-1502
END:VEVENT

END:VCALENDAR
