BEGIN:VCALENDAR
VERSION:2.0
PRODID:-//ChamberMaster//Event Calendar 2.0//EN
METHOD:PUBLISH
X-PUBLISHED-TTL:P3D
REFRESH-INTERVAL:P3D
CALSCALE:GREGORIAN
BEGIN:VEVENT
DTSTART:20141022T003000Z
DTEND:20141022T030000Z
X-MICROSOFT-CDO-ALLDAYEVENT:FALSE
SUMMARY:Shen Yun Symphony Orchestra
DESCRIPTION:SHEN YUN SYMPHONY ORCHESTRA  will perform highlights from its vast repertoire of original works\, including Grand Descent of the Deities\, The Warriors of Wudang Mountain\, The Steadfast Lotus\, Ladies of the Manchu Court\, and many more! The concert also features classics from Berlioz and Dvo  k\, as well as several of the world's top Chinese vocalists.
X-ALT-DESC;FMTTYPE=text/html:<span style="font-size:14px\;"><span style="margin: 0px\; padding: 0px\; box-sizing: border-box\; border: 0px\; font-family: nimbus_sans_nov_t_ot_condenBd\; color: rgb(64\, 64\, 64)\; line-height: 27.7199993133545px\;">SHEN YUN SYMPHONY ORCHESTRA</span><span style="color: rgb(64\, 64\, 64)\; font-family: nimbus_sans_nov_t_ot_mediumRg\; line-height: 27.7199993133545px\;">&nbsp\; will perform highlights from its vast repertoire of original works\, including&nbsp\;</span></span><span style="font-size:10px\;"><em style="margin: 0px\; padding: 0px\; box-sizing: border-box\; border: 0px\; color: rgb(64\, 64\, 64)\; font-family: nimbus_sans_nov_t_ot_mediumRg\; font-size: 22px\; line-height: 27.7199993133545px\;">Grand Descent of the Deities\, The Warriors of Wudang Mountain\, The Steadfast Lotus\, Ladies of the Manchu Court\,</em></span><span style="font-size:14px\;"><span style="color: rgb(64\, 64\, 64)\; font-family: nimbus_sans_nov_t_ot_mediumRg\; line-height: 27.7199993133545px\;">&nbsp\;and many more! The concert also features classics from Berlioz and Dvo&#345\;&aacute\;k\, as well as several of the world&rsquo\;s top Chinese vocalists.</span></span>
LOCATION:Chicago Symphony Center Orchestra Hall 220 S. Michigan Ave Chicago\, IL 60604
UID:e.1819.505
SEQUENCE:3
DTSTAMP:20260423T224723Z
URL:https://members.lakeviewroscoevillage.org/events/details/shen-yun-symphony-orchestra-10-21-2014-505
END:VEVENT

END:VCALENDAR
