BEGIN:VCALENDAR
VERSION:2.0
PRODID:-//ChamberMaster//Event Calendar 2.0//EN
METHOD:PUBLISH
X-PUBLISHED-TTL:P3D
REFRESH-INTERVAL:P3D
CALSCALE:GREGORIAN
BEGIN:VEVENT
DTSTART;VALUE=DATE:20131108
DTEND;VALUE=DATE:20131112
TRANSP:TRANSPARENT
X-MICROSOFT-CDO-ALLDAYEVENT:TRUE
SUMMARY:Sherwin-Willams Super Sale
DESCRIPTION:Super Sale- 4 Days Only!\n\n\n\n*40% off Paints and Stains\n\n*30% off Painting Supplies\n\n*15% off Inspired by Color Wallcovering
X-ALT-DESC;FMTTYPE=text/html:Super Sale- 4 Days Only!<br />\n<br />\n<span style="font-size: medium\;"><span style="font-family: calibri\;">*40% off Paints and Stains</span></span><br />\n<span style="font-size: medium\;"><span style="font-family: calibri\;">*30% off Painting Supplies</span></span><br />\n<span style="font-size: medium\;"><span style="font-family: calibri\;">*15% off Inspired by Color Wallcovering</span></span><br />\n
LOCATION:2917 N ASHLAND AVE CHICAGO\, IL 60657
UID:e.1819.115
SEQUENCE:3
DTSTAMP:20260424T205616Z
URL:https://members.lakeviewroscoevillage.org/events/details/sherwin-willams-super-sale-11-08-2013-115
END:VEVENT

END:VCALENDAR
