BEGIN:VCALENDAR
VERSION:2.0
PRODID:-//ChamberMaster//Event Calendar 2.0//EN
METHOD:PUBLISH
X-PUBLISHED-TTL:P3D
REFRESH-INTERVAL:P3D
CALSCALE:GREGORIAN
BEGIN:VEVENT
DTSTART:20131005T130000Z
DTEND:20131005T230000Z
X-MICROSOFT-CDO-ALLDAYEVENT:FALSE
SUMMARY:Sherwin-Williams Grand Opening & Ribbon Cutting
DESCRIPTION:Please join us as we help celebrate the Grand Opening of Sherwin-Williams newest location in Lakeview!\n\n\n\nDuring the Grand Opening customers will enjoy 40% off paints & stains\, 30% off painting supplies\, 10% off custom order wallpaper\, free bucket and brush (while supplies last)\, plus win great door prizes!
X-ALT-DESC;FMTTYPE=text/html:Please join us as we help celebrate the Grand Opening of Sherwin-Williams newest location in Lakeview!<br />\n<br />\nDuring the Grand Opening customers will enjoy 40% off paints &amp\; stains\, 30% off painting supplies\, 10% off custom order wallpaper\, free bucket and brush (while supplies last)\, plus win great door prizes! 
LOCATION:2917 N. Ashland Ave\, Chicago\, IL 60657
UID:e.1819.96
SEQUENCE:3
DTSTAMP:20260424T224428Z
URL:https://members.lakeviewroscoevillage.org/events/details/sherwin-williams-grand-opening-ribbon-cutting-10-05-2013-96
END:VEVENT

END:VCALENDAR
