BEGIN:VCALENDAR
VERSION:2.0
PRODID:-//ChamberMaster//Event Calendar 2.0//EN
METHOD:PUBLISH
X-PUBLISHED-TTL:P3D
REFRESH-INTERVAL:P3D
CALSCALE:GREGORIAN
BEGIN:VEVENT
DTSTART;VALUE=DATE:20140411
DTEND;VALUE=DATE:20140415
TRANSP:TRANSPARENT
X-MICROSOFT-CDO-ALLDAYEVENT:TRUE
SUMMARY:Sherwin-Williams Spring Super Sale
DESCRIPTION:Sherwin-Williams Spring Super Sale \n\nApril 11th- April 14th 2014\n\n\n\n40% Off Paints & Stains\n\n30% Off Supplies\n\n15% Off Wallpaper\n\n \n\nFind us at 2917 N. Ashland Ave and ask about our Free In-Home Designer Consultations.\n\nSome Exclusions Apply*
X-ALT-DESC;FMTTYPE=text/html:<strong>Sherwin-Williams Spring Super Sale </strong><br />\nApril 11th- April 14th 2014<br />\n<br />\n40% Off Paints &amp\; Stains<br />\n30% Off Supplies<br />\n15% Off Wallpaper<br />\n&nbsp\;<br />\nFind us at 2917 N. Ashland Ave and ask about our Free In-Home Designer Consultations.<br />\nSome Exclusions Apply*
LOCATION:Sherwin-Williams 2917 N. Ashland Ave Chicago\, IL 60657
UID:e.1819.256
SEQUENCE:3
DTSTAMP:20260424T120733Z
URL:https://members.lakeviewroscoevillage.org/events/details/sherwin-williams-spring-super-sale-04-11-2014-256
END:VEVENT

END:VCALENDAR
