BEGIN:VCALENDAR
VERSION:2.0
PRODID:-//ChamberMaster//Event Calendar 2.0//EN
METHOD:PUBLISH
X-PUBLISHED-TTL:P3D
REFRESH-INTERVAL:P3D
CALSCALE:GREGORIAN
BEGIN:VEVENT
DTSTART:20160113T010000Z
DTEND:20160113T020000Z
X-MICROSOFT-CDO-ALLDAYEVENT:FALSE
SUMMARY:Ski Prep and Prevention
DESCRIPTION:Get ready for the ski season! Learn the following: + Ways to avoid injuries as a new skier + Excercises to get your body ready + Tips for knee-friendly skiing + What to do if you get injured Additionally\, meet other skiers in the neighborhood and enjoy light refreshments.
X-ALT-DESC;FMTTYPE=text/html:Get ready for the ski season! Learn the following: + Ways to avoid injuries as a new skier + Excercises to get your body ready + Tips for knee-friendly skiing + What to do if you get injured Additionally\, meet other skiers in the neighborhood and enjoy light refreshments.
LOCATION:Presence Center for Advanced Care Conference Center - 5th Floor 2845 N. Sheridan Road
UID:e.1819.2264
SEQUENCE:3
DTSTAMP:20260422T190023Z
URL:https://members.lakeviewroscoevillage.org/events/details/ski-prep-and-prevention-01-12-2016-2264
END:VEVENT

END:VCALENDAR
