BEGIN:VCALENDAR
VERSION:2.0
PRODID:-//ChamberMaster//Event Calendar 2.0//EN
METHOD:PUBLISH
X-PUBLISHED-TTL:P3D
REFRESH-INTERVAL:P3D
CALSCALE:GREGORIAN
BEGIN:VEVENT
DTSTART:20161109T153000Z
DTEND:20161109T183000Z
X-MICROSOFT-CDO-ALLDAYEVENT:FALSE
SUMMARY:Small Business Planning Workshop\, by Erickson Business Coaching
DESCRIPTION:Is your business really ready for the growth you want?\n\nJoin other local business owners for a 2-hour hands-on workshop. Come prepared to take real steps to advance your business over the next 12 months.\n\nExperienced business coaches will walk you through a practical\, step-by-step process to create a growth plan that works. We'll work together on the first two steps to make sure you've made concrete progress by the end of the workshop.\n\nWhen you leave\, you will have all the tools you need to build an action plan and stick to it. For those who want a little extra help\, one-on-one follow ups with a coach will be available.\n\nYou will leave this workshop with:\n\n\n	A clear vision of where you want to be in 12 months\n	A good understanding of your business' strengths and weaknesses today\n	A roadmap for the work that will move you from where you are to where you want to be\n	Strategies to empower your employees to be part of the solution\n	Practical tools and techniques to stay on track\n\n\n\nAgenda\n\n9:30am to 10:00am Networking and coffee\n\n10:00am to 12:00pm Workshop\n\n12:00pm to 12:30pm Wrap up and more networking\n\nStart 2017 with a clear plan to grow your business and meet your goals. Register now.
X-ALT-DESC;FMTTYPE=text/html:<p benton="" font-size:="" helvetica="" letter-spacing:="">Is your business really ready for the growth you want?</p>\n\n<p benton="" font-size:="" helvetica="" letter-spacing:="">Join other local business owners for a 2-hour hands-on workshop. Come prepared to take real steps to advance your business over the next 12 months.</p>\n\n<p benton="" font-size:="" helvetica="" letter-spacing:="">Experienced business coaches will walk you through a practical\, step-by-step process to create a growth plan that works. We&rsquo\;ll work together on the first two steps to make sure you&rsquo\;ve made concrete progress by the end of the workshop.</p>\n\n<p benton="" font-size:="" helvetica="" letter-spacing:="">When you leave\, you will have all the tools you need to build an action plan and stick to it. For those who want a little extra help\, one-on-one follow ups with a coach will be available.</p>\n\n<p benton="" font-size:="" helvetica="" letter-spacing:="">You will leave this workshop with:</p>\n\n<ul benton="" font-size:="" helvetica="" letter-spacing:="">\n	<li>A clear vision of where you want to be in 12 months</li>\n	<li>A good understanding of your business&rsquo\; strengths and weaknesses today</li>\n	<li>A roadmap for the work that will move you from where you are to where you want to be</li>\n	<li>Strategies to empower your employees to be part of the solution</li>\n	<li>Practical tools and techniques to stay on track</li>\n</ul>\n\n<div>\n<p benton="" font-size:="" helvetica="" letter-spacing:="">Agenda</p>\n\n<p benton="" font-size:="" helvetica="" letter-spacing:="">9:30am to 10:00am Networking and coffee</p>\n\n<p benton="" font-size:="" helvetica="" letter-spacing:="">10:00am to 12:00pm Workshop</p>\n\n<p benton="" font-size:="" helvetica="" letter-spacing:="">12:00pm to 12:30pm Wrap up and more networking</p>\n\n<p benton="" font-size:="" helvetica="" letter-spacing:="">Start 2017 with a clear plan to grow your business and meet your goals. Register now.</p>\n</div>\n
LOCATION:Bespeak Studios 737 W Wrightwood Ave
UID:e.1819.3824
SEQUENCE:3
DTSTAMP:20260420T064856Z
URL:https://members.lakeviewroscoevillage.org/events/details/small-business-planning-workshop-by-erickson-business-coaching-11-09-2016-3824
END:VEVENT

END:VCALENDAR
