BEGIN:VCALENDAR
VERSION:2.0
PRODID:-//ChamberMaster//Event Calendar 2.0//EN
METHOD:PUBLISH
X-PUBLISHED-TTL:P3D
REFRESH-INTERVAL:P3D
CALSCALE:GREGORIAN
BEGIN:VEVENT
DTSTART:20150804T130000Z
DTEND:20150804T150000Z
X-MICROSOFT-CDO-ALLDAYEVENT:FALSE
SUMMARY:Small Business Roundtable with Representative Ann Williams
DESCRIPTION:Join Representative Ann Williams for a collaborative discussion on opportunities to promote business in our community and promote business through legislative action.\n\n\n\nAgenda Topics Include:\n\nPerspectives on current business landscape in Illinois\n\nWays to make Illinois more conducive to small business\n\nChallenges facing businesses in Chicago\n\nResources from the state and your local chamber
X-ALT-DESC;FMTTYPE=text/html:Join Representative Ann Williams for a collaborative discussion on opportunities to promote business in our community and promote business through legislative action.<br />\n<br />\nAgenda Topics Include:<br />\nPerspectives on current business landscape in Illinois<br />\nWays to make Illinois more conducive to small business<br />\nChallenges facing businesses in Chicago<br />\nResources from the state and your local chamber
LOCATION:Northwestern Physicians Group 1333 W Belmont
UID:e.1819.1777
SEQUENCE:3
DTSTAMP:20260423T040656Z
URL:https://members.lakeviewroscoevillage.org/events/details/small-business-roundtable-with-representative-ann-williams-08-04-2015-1777
END:VEVENT

END:VCALENDAR
