BEGIN:VCALENDAR
VERSION:2.0
PRODID:-//ChamberMaster//Event Calendar 2.0//EN
METHOD:PUBLISH
X-PUBLISHED-TTL:P3D
REFRESH-INTERVAL:P3D
CALSCALE:GREGORIAN
BEGIN:VEVENT
DTSTART;VALUE=DATE:20171125
DTEND;VALUE=DATE:20171126
TRANSP:TRANSPARENT
X-MICROSOFT-CDO-ALLDAYEVENT:TRUE
SUMMARY:Small Business Saturday at Mike & Yoli
DESCRIPTION:Small Business Saturday Sale - 20% off the whole store except consignment and artist pieces. \n\n\n\nLocated at 3066 N. Lincoln Avenue\, right next to the Starbucks\, Mike and YoLi are taking Lakeview by storm. Whether it be for our weekly paint parties\, some retail shopping\, or just plain ole' good cheer\, we welcome you to stop on by and say hello. We're open from 11am-6pm Tuesdays- Sundays. Follow us on Twitter @MikeandYoLi\, Instagram @mikeandyoli\, and Facebook @MikeandYoLi.
X-ALT-DESC;FMTTYPE=text/html:<div style="color: rgb(34\, 34\, 34)\; font-size: 12.8px\; font-family: &quot\;Times New Roman&quot\;\, Times\, serif\;"><font color="#000000"><span style="font-family: Georgia\, &quot\;Times New Roman&quot\;\, Times\, serif\;">Small Business&nbsp\;<span class="aBn" data-term="goog_1390172908" style="border-bottom: 1px dashed rgb(204\, 204\, 204)\; position: relative\; top: -2px\; z-index: 0\;" tabindex="0"><span class="aQJ" style="position: relative\; top: 2px\; z-index: -1\;">Saturday</span></span>&nbsp\;Sale - 20% off the whole store except consignment and artist pieces.&nbsp\;</span></font><br />\n<br />\n<span style="color: rgb(0\, 0\, 0)\; font-size: 12.8px\; font-family: Georgia\, &quot\;Times New Roman&quot\;\, Times\, serif\;"><span class="m_54655041448021121gmail-il">Located</span>&nbsp\;at&nbsp\;3066 N. Lincoln Avenue\, right next to the Starbucks\, Mike and YoLi are taking Lakeview by storm. Whether it be for our weekly paint parties\, some retail shopping\, or just plain ole&rsquo\; good cheer\, we welcome you to stop on by and say hello. We&rsquo\;re open from&nbsp\;<span class="m_54655041448021121gmail-aBn"><span class="m_54655041448021121gmail-aQJ"><span class="aBn" data-term="goog_1390172906" style="border-bottom: 1px dashed rgb(204\, 204\, 204)\; position: relative\; top: -2px\; z-index: 0\;" tabindex="0"><span class="aQJ" style="position: relative\; top: 2px\; z-index: -1\;">11am-6pm</span></span></span></span>&nbsp\;Tuesdays- Sundays. Follow us on Twitter&nbsp\;</span><span style="color: rgb(0\, 0\, 0)\; font-family: &quot\;Times New Roman&quot\;\, Times\, serif\; font-size: 12.8px\;">@MikeandYoLi</span><span style="color: rgb(0\, 0\, 0)\; font-size: 12.8px\; font-family: Georgia\, &quot\;Times New Roman&quot\;\, Times\, serif\;">\, Instagram&nbsp\;</span><span style="color: rgb(0\, 0\, 0)\; font-family: &quot\;Times New Roman&quot\;\, Times\, serif\; font-size: 12.8px\;">@mikeandyoli</span><span style="color: rgb(0\, 0\, 0)\; font-size: 12.8px\; font-family: Georgia\, &quot\;Times New Roman&quot\;\, Times\, serif\;">\, and Facebook</span><span style="color: rgb(0\, 0\, 0)\; font-family: &quot\;Times New Roman&quot\;\, Times\, serif\; font-size: 12.8px\;">&nbsp\;@MikeandYoLi</span><span style="color: rgb(0\, 0\, 0)\; font-size: 12.8px\; font-family: Georgia\, &quot\;Times New Roman&quot\;\, Times\, serif\;">.&nbsp\;</span></div>\n
LOCATION:3066 N. Lincoln Avenue
UID:e.1819.11219
SEQUENCE:3
DTSTAMP:20260419T142820Z
URL:https://members.lakeviewroscoevillage.org/events/details/small-business-saturday-at-mike-yoli-11-25-2017-11219
END:VEVENT

END:VCALENDAR
