BEGIN:VCALENDAR
VERSION:2.0
PRODID:-//ChamberMaster//Event Calendar 2.0//EN
METHOD:PUBLISH
X-PUBLISHED-TTL:P3D
REFRESH-INTERVAL:P3D
CALSCALE:GREGORIAN
BEGIN:VEVENT
DTSTART:20161018T210000Z
DTEND:20161019T000000Z
X-MICROSOFT-CDO-ALLDAYEVENT:FALSE
SUMMARY:Small Business Saturday Boot Camp
DESCRIPTION:To help you make the most of the holiday shopping season\, American Express is inviting small businesses to attend a Small Business Saturday  Boot Camp in the month of October. The Boot Camps will take place in three cities\, (New York City\, Chicago and San Francisco) and will feature small business expert Rhonda Abrams who will provide actionable tips for small businesses to rally and recruit customers\, market their businesses\, and help maximize the entire holiday shopping season - starting with Small Business Saturday!\n\nIn addition\, attendees will be able to network with and hear from local small business owners and community leaders who will share best practices to gear up for the holiday shopping season. Attendees can get hands-on assistance with creating and printing custom Small Business Saturday marketing materials for their business through the on-site Shop Small Studio.
X-ALT-DESC;FMTTYPE=text/html:<p>To help you make the most of the holiday shopping season\, American Express is inviting small businesses to attend a&nbsp\;Small Business Saturday&reg\;&nbsp\;Boot Camp in the month of October. The Boot Camps will take place in three cities\, (New York City\, Chicago and San Francisco) and will feature small business expert Rhonda Abrams who will provide actionable tips for small businesses to rally and recruit customers\, market their businesses\, and help maximize the entire holiday shopping season - starting with Small Business Saturday!</p>\n\n<p>In addition\, attendees will be able to network with and hear from local small business owners and community leaders who will share best practices to gear up for the holiday shopping season. Attendees can get hands-on assistance with creating and printing custom Small Business Saturday marketing materials for their business through the on-site Shop Small Studio.&nbsp\;</p>\n
LOCATION:78 E Washington St Chicago\, IL 60602
UID:e.1819.3820
SEQUENCE:3
DTSTAMP:20260422T084707Z
URL:https://members.lakeviewroscoevillage.org/events/details/small-business-saturday-boot-camp-10-18-2016-3820
END:VEVENT

END:VCALENDAR
