BEGIN:VCALENDAR
VERSION:2.0
PRODID:-//ChamberMaster//Event Calendar 2.0//EN
METHOD:PUBLISH
X-PUBLISHED-TTL:P3D
REFRESH-INTERVAL:P3D
CALSCALE:GREGORIAN
BEGIN:VEVENT
DTSTART:20151030T013000Z
DTEND:20151030T023000Z
X-MICROSOFT-CDO-ALLDAYEVENT:FALSE
SUMMARY:Small Business Saturday Information Session
DESCRIPTION:Small Business Saturday is coming up on November 28th! Are you ready?\n\n\n\nTo help you prepare\, the Lakeview Chamber of Commerce\, in partnership with the Lincoln Square Ravenswood Chamber of Commerce and the Lincoln Park Chamber of Commerce\, have brought an executive with Small Business Saturday to town for an exclusive meeting with small business owners\, and you're invited!\n\n\n\nWHAT: Small Business Saturday Information Session\, with Elizabeth McCarthy\, Senior Manager of Shop Small and Small Business Saturday at American Express OPEN.\n\nWHO: Any business owner or staff of a small business in Lincoln Square\, Lakeview\, and Lincoln Park is welcome to attend! Retailers\, restaurants\, service providers any small business is welcome.\n\n\n\nRSVP by replying to this email or emailing me at lvitosh@lakeviewchamber.com. Space is limited.\n\n\n\nFor the first time\, Elizabeth McCarthy\, Senior Manager of Shop Small and Small Business Saturday at American Express OPEN will join local business owners to discuss this wildly successful campaign and how you can take advantage of it to boost your business! (Reminder: Your business does NOT have to accept American Express to participate.)\n\n\n\nWhy come to this event?\n\n- Learn why you\, as a small business\, benefit from being part of this campaign. (Hint: It rings your register.)\n\n- Hear how successful Small Business Saturday has been for business across the country.\n\n- Get exclusive access to the organizer of the national Small Business Saturday campaign.\n\n- Learn how to get involved in Small Business Saturday.\n\n- Learn why this event isn't about American Express\, but about building community and getting neighbors to support small business during the holidays and all year long.
X-ALT-DESC;FMTTYPE=text/html:<span style="color: rgb(34\, 34\, 34)\; font-family: arial\, sans-serif\; font-size: 12.8px\; line-height: normal\;">Small Business Saturday is coming up on&nbsp\;</span><span class="aBn" data-term="goog_973596991" style="border-bottom-width: 1px\; border-bottom-style: dashed\; border-bottom-color: rgb(204\, 204\, 204)\; position: relative\; top: -2px\; z-index: 0\; color: rgb(34\, 34\, 34)\; font-family: arial\, sans-serif\; font-size: 12.8px\; line-height: normal\;" tabindex="0"><span class="aQJ" style="position: relative\; top: 2px\; z-index: -1\;">November 28th</span></span><span style="color: rgb(34\, 34\, 34)\; font-family: arial\, sans-serif\; font-size: 12.8px\; line-height: normal\;">! Are you ready?</span><br style="color: rgb(34\, 34\, 34)\; font-family: arial\, sans-serif\; font-size: 12.8px\; line-height: normal\;" />\n<br style="color: rgb(34\, 34\, 34)\; font-family: arial\, sans-serif\; font-size: 12.8px\; line-height: normal\;" />\n<span style="color: rgb(34\, 34\, 34)\; font-family: arial\, sans-serif\; font-size: 12.8px\; line-height: normal\;">To help you prepare\, the Lakeview Chamber of Commerce\, in partnership with the Lincoln Square Ravenswood Chamber of Commerce and the Lincoln Park Chamber of Commerce\, have brought an executive with Small Business Saturday to town for an exclusive meeting with small business owners\, and you&#39\;re invited!</span><br style="color: rgb(34\, 34\, 34)\; font-family: arial\, sans-serif\; font-size: 12.8px\; line-height: normal\;" />\n<br style="color: rgb(34\, 34\, 34)\; font-family: arial\, sans-serif\; font-size: 12.8px\; line-height: normal\;" />\n<span style="color: rgb(34\, 34\, 34)\; font-family: arial\, sans-serif\; font-size: 12.8px\; line-height: normal\;">WHAT: Small Business&nbsp\;</span><span class="aBn" data-term="goog_973596990" style="border-bottom-width: 1px\; border-bottom-style: dashed\; border-bottom-color: rgb(204\, 204\, 204)\; position: relative\; top: -2px\; z-index: 0\; color: rgb(34\, 34\, 34)\; font-family: arial\, sans-serif\; font-size: 12.8px\; line-height: normal\;" tabindex="0"><span class="aQJ" style="position: relative\; top: 2px\; z-index: -1\;">Saturday</span></span><span style="color: rgb(34\, 34\, 34)\; font-family: arial\, sans-serif\; font-size: 12.8px\; line-height: normal\;">&nbsp\;Information Session\, with Elizabeth McCarthy\, Senior Manager of Shop Small and Small Business&nbsp\;</span><span class="aBn" data-term="goog_973596992" style="border-bottom-width: 1px\; border-bottom-style: dashed\; border-bottom-color: rgb(204\, 204\, 204)\; position: relative\; top: -2px\; z-index: 0\; color: rgb(34\, 34\, 34)\; font-family: arial\, sans-serif\; font-size: 12.8px\; line-height: normal\;" tabindex="0"><span class="aQJ" style="position: relative\; top: 2px\; z-index: -1\;">Saturday</span></span><span style="color: rgb(34\, 34\, 34)\; font-family: arial\, sans-serif\; font-size: 12.8px\; line-height: normal\;">&nbsp\;at American Express OPEN.</span><br style="color: rgb(34\, 34\, 34)\; font-family: arial\, sans-serif\; font-size: 12.8px\; line-height: normal\;" />\n<span style="color: rgb(34\, 34\, 34)\; font-family: arial\, sans-serif\; font-size: 12.8px\; line-height: normal\;">WHO: Any business owner or staff of a small business in Lincoln Square\, Lakeview\, and Lincoln Park is welcome to attend! Retailers\, restaurants\, service providers&mdash\;any small business is welcome.</span><br style="color: rgb(34\, 34\, 34)\; font-family: arial\, sans-serif\; font-size: 12.8px\; line-height: normal\;" />\n<br style="color: rgb(34\, 34\, 34)\; font-family: arial\, sans-serif\; font-size: 12.8px\; line-height: normal\;" />\n<span style="color: rgb(34\, 34\, 34)\; font-family: arial\, sans-serif\; font-size: 12.8px\; line-height: normal\;">RSVP by replying to this email or emailing me at&nbsp\;</span><a href="mailto:lvitosh@lakeviewchamber.com" style="color: rgb(17\, 85\, 204)\; font-family: arial\, sans-serif\; font-size: 12.8px\; line-height: normal\;">lvitosh@lakeviewchamber.com</a><span style="color: rgb(34\, 34\, 34)\; font-family: arial\, sans-serif\; font-size: 12.8px\; line-height: normal\;">. Space is limited.</span><br style="color: rgb(34\, 34\, 34)\; font-family: arial\, sans-serif\; font-size: 12.8px\; line-height: normal\;" />\n<br style="color: rgb(34\, 34\, 34)\; font-family: arial\, sans-serif\; font-size: 12.8px\; line-height: normal\;" />\n<span style="color: rgb(34\, 34\, 34)\; font-family: arial\, sans-serif\; font-size: 12.8px\; line-height: normal\;">For the first time\, Elizabeth McCarthy\, Senior Manager of Shop Small and Small Business&nbsp\;</span><span class="aBn" data-term="goog_973596993" style="border-bottom-width: 1px\; border-bottom-style: dashed\; border-bottom-color: rgb(204\, 204\, 204)\; position: relative\; top: -2px\; z-index: 0\; color: rgb(34\, 34\, 34)\; font-family: arial\, sans-serif\; font-size: 12.8px\; line-height: normal\;" tabindex="0"><span class="aQJ" style="position: relative\; top: 2px\; z-index: -1\;">Saturday</span></span><span style="color: rgb(34\, 34\, 34)\; font-family: arial\, sans-serif\; font-size: 12.8px\; line-height: normal\;">&nbsp\;at American Express OPEN will join local business owners to discuss this wildly successful campaign and how you can take advantage of it to boost your business! (Reminder: Your business does NOT have to accept American Express to participate.)</span><br style="color: rgb(34\, 34\, 34)\; font-family: arial\, sans-serif\; font-size: 12.8px\; line-height: normal\;" />\n<br style="color: rgb(34\, 34\, 34)\; font-family: arial\, sans-serif\; font-size: 12.8px\; line-height: normal\;" />\n<span style="color: rgb(34\, 34\, 34)\; font-family: arial\, sans-serif\; font-size: 12.8px\; line-height: normal\;">Why come to this event?</span><br style="color: rgb(34\, 34\, 34)\; font-family: arial\, sans-serif\; font-size: 12.8px\; line-height: normal\;" />\n<span style="color: rgb(34\, 34\, 34)\; font-family: arial\, sans-serif\; font-size: 12.8px\; line-height: normal\;">- Learn why you\, as a small business\, benefit from being part of this campaign. (Hint: It rings your register.)</span><br style="color: rgb(34\, 34\, 34)\; font-family: arial\, sans-serif\; font-size: 12.8px\; line-height: normal\;" />\n<span style="color: rgb(34\, 34\, 34)\; font-family: arial\, sans-serif\; font-size: 12.8px\; line-height: normal\;">- Hear how successful Small Business&nbsp\;</span><span class="aBn" data-term="goog_973596994" style="border-bottom-width: 1px\; border-bottom-style: dashed\; border-bottom-color: rgb(204\, 204\, 204)\; position: relative\; top: -2px\; z-index: 0\; color: rgb(34\, 34\, 34)\; font-family: arial\, sans-serif\; font-size: 12.8px\; line-height: normal\;" tabindex="0"><span class="aQJ" style="position: relative\; top: 2px\; z-index: -1\;">Saturday</span></span><span style="color: rgb(34\, 34\, 34)\; font-family: arial\, sans-serif\; font-size: 12.8px\; line-height: normal\;">&nbsp\;has been for business across the country.</span><br style="color: rgb(34\, 34\, 34)\; font-family: arial\, sans-serif\; font-size: 12.8px\; line-height: normal\;" />\n<span style="color: rgb(34\, 34\, 34)\; font-family: arial\, sans-serif\; font-size: 12.8px\; line-height: normal\;">- Get exclusive access to the organizer of the national Small Business Saturday campaign.</span><br style="color: rgb(34\, 34\, 34)\; font-family: arial\, sans-serif\; font-size: 12.8px\; line-height: normal\;" />\n<span style="color: rgb(34\, 34\, 34)\; font-family: arial\, sans-serif\; font-size: 12.8px\; line-height: normal\;">- Learn how to get involved in Small Business Saturday.</span><br style="color: rgb(34\, 34\, 34)\; font-family: arial\, sans-serif\; font-size: 12.8px\; line-height: normal\;" />\n<span style="color: rgb(34\, 34\, 34)\; font-family: arial\, sans-serif\; font-size: 12.8px\; line-height: normal\;">- Learn why this event isn&rsquo\;t about American Express\, but about building community and getting neighbors to support small business during the holidays and all year long.</span>
LOCATION:Northwestern Physician Group\, 1333 W Belmont\, 2nd Floor Conference Room
UID:e.1819.2036
SEQUENCE:3
DTSTAMP:20260423T002727Z
URL:https://members.lakeviewroscoevillage.org/events/details/small-business-saturday-information-session-10-29-2015-2036
END:VEVENT

END:VCALENDAR
