BEGIN:VCALENDAR
VERSION:2.0
PRODID:-//ChamberMaster//Event Calendar 2.0//EN
METHOD:PUBLISH
X-PUBLISHED-TTL:P3D
REFRESH-INTERVAL:P3D
CALSCALE:GREGORIAN
BEGIN:VEVENT
DTSTART:20170601T230000Z
DTEND:20170602T010000Z
X-MICROSOFT-CDO-ALLDAYEVENT:FALSE
SUMMARY:Small Talk Thursdays at Capital One Cafe
DESCRIPTION:What Small Businesses Should Consider When Choosing Office Space\n\nJoin Capital One Caf  for a presentation by Truss\, a commercial real estate solution for small and medium tenants and landlords\, and learn about the 5 things\n\nsmall businesses should consider when looking for office space.\n\nWhether you are looking to lease your first office or co-working space\, need a larger space to expand\, or just want new digs\, the commercial real estate market can be dizzying.  \n\nIn this Small Talk Thursday\, Truss Co-Founder Bobby Goodman will discuss best practices to ensure you get the right space for your small business   whether\n\nthat's a retail location\, sub-lease or industrial space   at the right price for your wallet.\nLight snacks and refreshments will be available. Space is limited\, RSVP today!
X-ALT-DESC;FMTTYPE=text/html:<p style="box-sizing: inherit\; margin: 1em 0px\; color: rgb(0\, 0\, 0)\; font-family: ProximaNovaRegular\, Arial\, Helvetica\, sans-serif\; font-size: 16px\;"><span style="font-family:arial\;"><span style="font-size:12px\;"><span style="box-sizing: inherit\;">What Small Businesses Should Consider When Choosing Office Space</span></span></span></p>\n\n<p style="box-sizing: inherit\; margin: 1em 0px\; color: rgb(0\, 0\, 0)\; font-family: ProximaNovaRegular\, Arial\, Helvetica\, sans-serif\; font-size: 16px\;"><span style="font-family:arial\;"><span style="font-size:12px\;"><span style="box-sizing: inherit\;"><font color="#000000" style="box-sizing: inherit\;">Join Capital One Caf&eacute\; for a presentation by Truss\,&nbsp\;<span style="box-sizing: inherit\;">a commercial real estate solution for small and medium tenants and landlords\,&nbsp\;</span></font><font color="#000000" style="box-sizing: inherit\;">and learn about the 5 things<br style="box-sizing: inherit\;" />\nsmall businesses should consider when looking for office space.</font></span></span></span></p>\n\n<p style="box-sizing: inherit\; margin: 1em 0px\; color: rgb(0\, 0\, 0)\; font-family: ProximaNovaRegular\, Arial\, Helvetica\, sans-serif\; font-size: 16px\;"><span style="font-family:arial\;"><span style="font-size:12px\;"><span style="box-sizing: inherit\;">Whether you are looking to lease your first office or co-working space\, need a larger space to expand\, or just want new digs\, the commercial real estate market can be dizzying.&nbsp\;&nbsp\;</span></span></span></p>\n\n<p style="box-sizing: inherit\; margin: 1em 0px\; color: rgb(0\, 0\, 0)\; font-family: ProximaNovaRegular\, Arial\, Helvetica\, sans-serif\; font-size: 16px\;"><span style="font-family:arial\;"><span style="font-size:12px\;"><span style="box-sizing: inherit\;">In this Small Talk Thursday\, Truss Co-Founder Bobby Goodman will discuss best practices to ensure you get the right space for your small business &ndash\; whether<br style="box-sizing: inherit\;" />\nthat&rsquo\;s a retail location\, sub-lease or industrial space &ndash\; at the right price for your wallet.</span></span></span></p>\n<span style="font-family:arial\;"><span style="font-size:12px\;"><span style="box-sizing: inherit\; color: rgb(0\, 0\, 0)\;"><span style="box-sizing: inherit\;"><font color="#000000" style="box-sizing: inherit\;">Light snacks and refreshments will be available.&nbsp\;</font></span></span></span><span style="font-size: 12px\; color: rgb(0\, 0\, 0)\;">Space is limited\, RSVP today!</span></span>\n\n<div>&nbsp\;</div>\n
LOCATION:Lincoln Park Cafe 1538 N. Clybourn Street Chicago\, IL 60610
UID:e.1819.5176
SEQUENCE:3
DTSTAMP:20260419T181518Z
URL:https://members.lakeviewroscoevillage.org/events/details/small-talk-thursdays-at-capital-one-cafe-06-01-2017-5176
END:VEVENT

END:VCALENDAR
