BEGIN:VCALENDAR
VERSION:2.0
PRODID:-//ChamberMaster//Event Calendar 2.0//EN
METHOD:PUBLISH
X-PUBLISHED-TTL:P3D
REFRESH-INTERVAL:P3D
CALSCALE:GREGORIAN
BEGIN:VEVENT
DTSTART:20170608T230000Z
DTEND:20170609T010000Z
X-MICROSOFT-CDO-ALLDAYEVENT:FALSE
SUMMARY:Small Talk Thursdays at Capital One Cafe
DESCRIPTION:Small Talk Thursday Event with Facebook &  Flowers for Dreams\n\n Topic: Social Media Marketing is Neither Difficult or Expensive. Here's How To Do It.\n\nJoin us at the Caf  for a presentation by Flowers for Dreams and Facebook and learn how you can boost your business' bottom line by leveraging the social media platform to promote your business.\n\nSocial media marketing can drive incredible growth\, especially when attracting customers online. \n\nIn this Small Talk Thursday\, Flowers for Dreams Founder Steven Dyme will join Facebook's Nate Christenson for a discussion on how small businesses can\n\nleverage Facebook to grow\, promote and drive their business forward.\nLight snacks and refreshments will be available. Space is limited\, RSVP today!
X-ALT-DESC;FMTTYPE=text/html:<p style="box-sizing: inherit\; margin: 1em 0px\; color: rgb(0\, 0\, 0)\; font-family: ProximaNovaRegular\, Arial\, Helvetica\, sans-serif\; font-size: 16px\;"><span style="font-size:12px\;"><span style="font-family:arial\;"><span style="box-sizing: inherit\;"><font color="#000000" style="box-sizing: inherit\;"><span style="box-sizing: inherit\; font-weight: 700\;">Small Talk Thursday Event with Facebook &amp\;&nbsp\;<span style="box-sizing: inherit\;">&nbsp\;Flowers for Dreams</span></span></font></span></span></span></p>\n\n<p style="box-sizing: inherit\; margin: 1em 0px\; color: rgb(0\, 0\, 0)\; font-family: ProximaNovaRegular\, Arial\, Helvetica\, sans-serif\; font-size: 16px\;"><span style="font-size:12px\;"><span style="font-family:arial\;"><span style="box-sizing: inherit\;">&#65279\;</span><span style="box-sizing: inherit\;"><u style="box-sizing: inherit\;">Topic</u>: Social Media Marketing is Neither Difficult or Expensive. Here&rsquo\;s How To Do It.</span></span></span></p>\n\n<p style="box-sizing: inherit\; margin: 1em 0px\; color: rgb(0\, 0\, 0)\; font-family: ProximaNovaRegular\, Arial\, Helvetica\, sans-serif\; font-size: 16px\;"><span style="font-size:12px\;"><span style="font-family:arial\;"><span style="box-sizing: inherit\;">Join us at the Caf&eacute\; for a presentation by Flowers for Dreams and Facebook and learn how you can boost your business&rsquo\; bottom line by leveraging the social media platform to promote your business.</span></span></span></p>\n\n<p style="box-sizing: inherit\; margin: 1em 0px\; color: rgb(0\, 0\, 0)\; font-family: ProximaNovaRegular\, Arial\, Helvetica\, sans-serif\; font-size: 16px\;"><span style="font-size:12px\;"><span style="font-family:arial\;"><span style="box-sizing: inherit\;"><font color="#000000" style="box-sizing: inherit\;">Social media marketing can drive incredible growth\, especially when attracting customers online.<span style="box-sizing: inherit\;">&nbsp\;</span></font></span></span></span></p>\n\n<p style="box-sizing: inherit\; margin: 1em 0px\; color: rgb(0\, 0\, 0)\; font-family: ProximaNovaRegular\, Arial\, Helvetica\, sans-serif\; font-size: 16px\;"><span style="font-size:12px\;"><span style="font-family:arial\;"><span style="box-sizing: inherit\;">In this Small Talk Thursday\, Flowers for Dreams Founder Steven Dyme will join Facebook&rsquo\;s Nate Christenson for a discussion on how small businesses can<br style="box-sizing: inherit\;" />\nleverage Facebook to grow\, promote and drive their business forward.</span></span></span></p>\n<span style="font-family:arial\;"><span style="font-size:12px\;"><span style="box-sizing: inherit\; color: rgb(0\, 0\, 0)\;"><span style="box-sizing: inherit\;"><font color="#000000" style="box-sizing: inherit\;">Light snacks and refreshments will be available.&nbsp\;</font></span></span></span><span style="font-size: 12px\; color: rgb(0\, 0\, 0)\;">Space is limited\, RSVP today!</span></span>\n\n<div>&nbsp\;</div>\n
LOCATION:Lincoln Park Cafe 1538 N. Clybourn Street Chicago\, IL 60610
UID:e.1819.5177
SEQUENCE:3
DTSTAMP:20260419T200424Z
URL:https://members.lakeviewroscoevillage.org/events/details/small-talk-thursdays-at-capital-one-cafe-06-08-2017-5177
END:VEVENT

END:VCALENDAR
