BEGIN:VCALENDAR
VERSION:2.0
PRODID:-//ChamberMaster//Event Calendar 2.0//EN
METHOD:PUBLISH
X-PUBLISHED-TTL:P3D
REFRESH-INTERVAL:P3D
CALSCALE:GREGORIAN
BEGIN:VEVENT
DTSTART:20170615T230000Z
DTEND:20170616T010000Z
X-MICROSOFT-CDO-ALLDAYEVENT:FALSE
SUMMARY:Small Talk Thursdays at Capital One Cafe
DESCRIPTION:Topic: How to Grow Your Business from A Pop-Up to Multiple Storefronts\n\nJoin us at the Caf  for a presentation by Clark Street Sports as they share their growth journey and best practices to expand your business.\n\nClark Street Sports started as four friends selling t-shirts outside of Wrigley Field. Over the past 30 years\, the company has grown into multiple retail locations outside many of Chicago's major sports stadiums and shopping malls\, and now has over 40 employees.\n\nIn this Small Talk Thursday\, Jason Caref\, Owner of Clark Street Sports\, will share his best practices and lessons learned for small businesses who are looking to one day expand into multiple storefronts.\nLight snacks and refreshments will be available. Space is limited\, RSVP today!
X-ALT-DESC;FMTTYPE=text/html:<p style="box-sizing: inherit\; margin: 1em 0px\; color: rgb(0\, 0\, 0)\; font-family: ProximaNovaRegular\, Arial\, Helvetica\, sans-serif\; font-size: 16px\;"><span style="font-size:12px\;"><span style="font-family:arial\;"><span style="box-sizing: inherit\;"><u style="box-sizing: inherit\;">Topic</u>: How to Grow Your Business from A Pop-Up to Multiple Storefronts</span></span></span></p>\n\n<p style="box-sizing: inherit\; margin: 1em 0px\; color: rgb(0\, 0\, 0)\; font-family: ProximaNovaRegular\, Arial\, Helvetica\, sans-serif\; font-size: 16px\;"><span style="font-size:12px\;"><span style="font-family:arial\;"><span style="box-sizing: inherit\;">Join us at the Caf&eacute\; for a presentation by Clark Street Sports as they share their growth journey and best practices to expand your business.</span></span></span></p>\n\n<p style="box-sizing: inherit\; margin: 1em 0px\; color: rgb(0\, 0\, 0)\; font-family: ProximaNovaRegular\, Arial\, Helvetica\, sans-serif\; font-size: 16px\;"><span style="font-size:12px\;"><span style="font-family:arial\;"><span style="box-sizing: inherit\;">Clark Street Sports started as four friends selling t-shirts outside of Wrigley Field. Over the past 30 years\, the company has grown into multiple retail locations outside many of Chicago&#39\;s major sports stadiums and shopping malls\, and now has over 40 employees.</span></span></span></p>\n\n<p style="box-sizing: inherit\; margin: 1em 0px\; color: rgb(0\, 0\, 0)\; font-family: ProximaNovaRegular\, Arial\, Helvetica\, sans-serif\; font-size: 16px\;"><span style="font-size:12px\;"><span style="font-family:arial\;"><span style="box-sizing: inherit\;">In this Small Talk Thursday\, Jason Caref\, Owner of Clark Street Sports\, will share his best practices and lessons learned for small businesses who are looking to one day expand into multiple storefronts.</span></span></span></p>\n<span style="font-family:arial\;"><span style="font-size:12px\;"><span style="box-sizing: inherit\; color: rgb(0\, 0\, 0)\;"><span style="box-sizing: inherit\;"><font color="#000000" style="box-sizing: inherit\;">Light snacks and refreshments will be available.&nbsp\;</font></span></span></span><span style="font-size: 12px\; color: rgb(0\, 0\, 0)\;">Space is limited\, RSVP today!</span></span>\n\n<div>&nbsp\;</div>\n
LOCATION:Lincoln Park Cafe 1538 N. Clybourn Street Chicago\, IL 60610
UID:e.1819.5178
SEQUENCE:3
DTSTAMP:20260419T181616Z
URL:https://members.lakeviewroscoevillage.org/events/details/small-talk-thursdays-at-capital-one-cafe-06-15-2017-5178
END:VEVENT

END:VCALENDAR
