BEGIN:VCALENDAR
VERSION:2.0
PRODID:-//ChamberMaster//Event Calendar 2.0//EN
METHOD:PUBLISH
X-PUBLISHED-TTL:P3D
REFRESH-INTERVAL:P3D
CALSCALE:GREGORIAN
BEGIN:VEVENT
DTSTART:20170622T230000Z
DTEND:20170623T010000Z
X-MICROSOFT-CDO-ALLDAYEVENT:FALSE
SUMMARY:Small Talk Thursdays at Capital One Cafe
DESCRIPTION:Join us at the Caf  for a presentation by Google focusing on how to drive growth in a mobile-first world. \n\nMobile offers hundreds of new opportunities for small businesses to deliver value to customers\, especially during a moment of need. This session will uncover ways small businesses can adopt various mobile technologies to effectively reach new customers and drive business growth.\nLight snacks and refreshments will be available. Space is limited\, RSVP today!
X-ALT-DESC;FMTTYPE=text/html:<p style="box-sizing: inherit\; margin: 1em 0px\; color: rgb(0\, 0\, 0)\; font-family: ProximaNovaRegular\, Arial\, Helvetica\, sans-serif\; font-size: 16px\;"><span style="font-size:12px\;"><span style="font-family:arial\;"><span style="box-sizing: inherit\;"><font color="#000000" style="box-sizing: inherit\;">Join us at the Caf&eacute\; for a presentation by Google focusing on how to drive growth in a mobile-first world.<span style="box-sizing: inherit\;">&nbsp\;</span></font></span></span></span></p>\n\n<p style="box-sizing: inherit\; margin: 1em 0px\; color: rgb(0\, 0\, 0)\; font-family: ProximaNovaRegular\, Arial\, Helvetica\, sans-serif\; font-size: 16px\;"><span style="font-size:12px\;"><span style="font-family:arial\;"><span style="box-sizing: inherit\;">Mobile offers hundreds of new opportunities for small businesses to deliver value to customers\, especially during a moment of need. This session will uncover ways small businesses can adopt various mobile technologies to effectively reach new customers and drive business growth.</span></span></span></p>\n<span style="font-family:arial\;"><span style="font-size:12px\;"><span style="box-sizing: inherit\; color: rgb(0\, 0\, 0)\;"><span style="box-sizing: inherit\;"><font color="#000000" style="box-sizing: inherit\;">Light snacks and refreshments will be available.&nbsp\;</font></span></span></span><span style="font-size: 12px\; color: rgb(0\, 0\, 0)\;">Space is limited\, RSVP today!</span></span>\n\n<div>&nbsp\;</div>\n
LOCATION:Lincoln Park Cafe 1538 N. Clybourn Street Chicago\, IL 60610
UID:e.1819.5179
SEQUENCE:3
DTSTAMP:20260419T181647Z
URL:https://members.lakeviewroscoevillage.org/events/details/small-talk-thursdays-at-capital-one-cafe-06-22-2017-5179
END:VEVENT

END:VCALENDAR
