BEGIN:VCALENDAR
VERSION:2.0
PRODID:-//ChamberMaster//Event Calendar 2.0//EN
METHOD:PUBLISH
X-PUBLISHED-TTL:P3D
REFRESH-INTERVAL:P3D
CALSCALE:GREGORIAN
BEGIN:VEVENT
DTSTART:20170629T230000Z
DTEND:20170630T010000Z
X-MICROSOFT-CDO-ALLDAYEVENT:FALSE
SUMMARY:Small Talk Thursdays at Capital One Cafe
DESCRIPTION:Topic: Finding Business Success:  Keys to Growing Your Business\n\n\n\nJoin us at the Caf  for a presentation by Bill Rancic focusing on finding business success and growing your business. \n\nBefore he became a well-known businessman\, Bill Rancic was an entrepreneur looking to achieve success.\n\nThat business\, Cigars Around the World\, did succeed and eventually became a multi-million dollar enterprise   and helped kick start Bill's passion for small business.\n\nIn this Small Talk Thursday\, Bill Rancic will share his best practices for small business success\, and the lessons he has learned along the way from the pancake\n\nbusiness he started with his grandmother at age 10 to his current ventures as small business spokesman\, restaurant owner and real estate developer.\n\nAppetizers and refreshments will be available. After the talk\, Bill will also be signing his book "Beyond the Lemonade Stand: Starting Small to Make It Big." Space is limited\, RSVP today!
X-ALT-DESC;FMTTYPE=text/html:<p style="box-sizing: inherit\; margin: 1em 0px\; color: rgb(0\, 0\, 0)\; font-family: ProximaNovaRegular\, Arial\, Helvetica\, sans-serif\; font-size: 16px\;"><span style="font-size:12px\;"><span style="font-family:arial\;"><span style="box-sizing: inherit\;"><font color="#000000" style="box-sizing: inherit\;"><u style="box-sizing: inherit\;">Topic</u>:&nbsp\;</font><font color="#000000" style="box-sizing: inherit\;">Finding Business Success:</font><font color="#000000" style="box-sizing: inherit\;">&nbsp\;&nbsp\;</font><font color="#000000" style="box-sizing: inherit\;">Keys to Growing Your Business</font></span></span></span><br />\n<br />\n<span style="font-size:12px\;"><span style="font-family:arial\;"><span style="box-sizing: inherit\;"><font color="#000000" style="box-sizing: inherit\;">Join us at the Caf&eacute\; for a presentation by Bill Rancic focusing on finding business success and growing your business.<span style="box-sizing: inherit\;">&nbsp\;</span></font></span></span></span></p>\n\n<p style="box-sizing: inherit\; margin: 1em 0px\; color: rgb(0\, 0\, 0)\; font-family: ProximaNovaRegular\, Arial\, Helvetica\, sans-serif\; font-size: 16px\;"><span style="font-size:12px\;"><span style="font-family:arial\;"><span style="box-sizing: inherit\;">Before he became a well-known&nbsp\;businessman\, Bill Rancic was an entrepreneur looking to achieve success.</span></span></span></p>\n\n<p style="box-sizing: inherit\; margin: 1em 0px\; color: rgb(0\, 0\, 0)\; font-family: ProximaNovaRegular\, Arial\, Helvetica\, sans-serif\; font-size: 16px\;"><span style="font-size:12px\;"><span style="font-family:arial\;"><span style="box-sizing: inherit\;">That business\, Cigars Around the World\, did succeed and eventually became a multi-million dollar enterprise &ndash\; and helped kick start Bill&rsquo\;s passion for small business.</span></span></span></p>\n\n<p style="box-sizing: inherit\; margin: 1em 0px\; color: rgb(0\, 0\, 0)\; font-family: ProximaNovaRegular\, Arial\, Helvetica\, sans-serif\; font-size: 16px\;"><span style="font-size:12px\;"><span style="font-family:arial\;"><span style="box-sizing: inherit\;">In this Small Talk Thursday\, Bill Rancic will share his best practices for small business success\, and the lessons he has learned along the way from the pancake<br style="box-sizing: inherit\;" />\nbusiness he started with his grandmother at age 10 to his current ventures as small business spokesman\, restaurant owner and real estate developer.</span></span></span></p>\n\n<p style="box-sizing: inherit\; margin: 1em 0px\; color: rgb(0\, 0\, 0)\; font-family: ProximaNovaRegular\, Arial\, Helvetica\, sans-serif\; font-size: 16px\;"><span style="font-size:12px\;"><span style="font-family:arial\;"><span style="box-sizing: inherit\;">Appetizers and refreshments will be available. After the talk\, Bill will also be signing his book &ldquo\;Beyond the Lemonade Stand: Starting Small to Make It Big.&rdquo\;&nbsp\;</span></span></span><span style="font-size:12px\;"><span style="font-family:arial\;"><span style="box-sizing: inherit\;">Space is limited\, RSVP today!</span></span></span></p>\n
LOCATION:Lincoln Park Cafe 1538 N. Clybourn Street Chicago\, IL 60610
UID:e.1819.5180
SEQUENCE:3
DTSTAMP:20260419T181632Z
URL:https://members.lakeviewroscoevillage.org/events/details/small-talk-thursdays-at-capital-one-cafe-06-29-2017-5180
END:VEVENT

END:VCALENDAR
