BEGIN:VCALENDAR
VERSION:2.0
PRODID:-//ChamberMaster//Event Calendar 2.0//EN
METHOD:PUBLISH
X-PUBLISHED-TTL:P3D
REFRESH-INTERVAL:P3D
CALSCALE:GREGORIAN
BEGIN:VEVENT
DTSTART:20150917T210000Z
DTEND:20150917T220000Z
X-MICROSOFT-CDO-ALLDAYEVENT:FALSE
SUMMARY:Smallcakes Ribbon Cutting
DESCRIPTION:Join us for a Ribbon Cutting as we welcome Smallcakes Cupcakery to the Lakeview neighborhood. Enjoy free samples of cupcakes and ice cream and meet Jeff Martin from Cupcake Wars!
X-ALT-DESC;FMTTYPE=text/html:<span style="color: rgb(80\, 80\, 80)\; font-family: Helvetica\; font-size: 14px\; line-height: 21px\; background-color: rgb(250\, 250\, 250)\;">Join us for a Ribbon Cutting as we welcome Smallcakes Cupcakery to the Lakeview neighborhood. Enjoy free samples of cupcakes and ice cream and meet Jeff Martin from Cupcake Wars!&nbsp\;</span>
LOCATION:Smallcakes Cupcakery and Creamery | 3054 N Greenview Ave
UID:e.1819.1811
SEQUENCE:3
DTSTAMP:20260423T020644Z
URL:https://members.lakeviewroscoevillage.org/events/details/smallcakes-ribbon-cutting-09-17-2015-1811
END:VEVENT

END:VCALENDAR
