BEGIN:VCALENDAR
VERSION:2.0
PRODID:-//ChamberMaster//Event Calendar 2.0//EN
METHOD:PUBLISH
X-PUBLISHED-TTL:P3D
REFRESH-INTERVAL:P3D
CALSCALE:GREGORIAN
BEGIN:VEVENT
DTSTART:20161207T000000Z
DTEND:20161207T013000Z
X-MICROSOFT-CDO-ALLDAYEVENT:FALSE
SUMMARY:smart investing @ your library - Finding Financial Advice That's Right for You
DESCRIPTION:There are so many choices: broker\, investment adviser\, or financial planner? Fee-based\, fee-only\, or commission? And should you choose a CFP\, ChFC or CPA with a PFS? While there's no fool proof way to choose the best financial adviser\, asking the right questions (and understanding the answers) can increase the chances of finding the best match for you. Financial educator Karen Chan\, CFP (R)\, draws on twenty years of studying personal finance to help you sort it all out.\n\n\n\n\n\nPresented by Karen Chan\, CFP (R)\, Karen Chan Financial Education & Consulting\, LLC. This program is part of the Smart investing@your library \, a partnership with FINRA Investor Education Association and the American Library Association.
X-ALT-DESC;FMTTYPE=text/html:There are so many choices: broker\, investment adviser\, or financial planner? Fee-based\, fee-only\, or commission? And should you choose a CFP\, ChFC or CPA with a PFS? While there&#39\;s no fool proof way to choose the best financial adviser\, asking the right questions (and understanding the answers) can increase the chances of finding the best match for you. Financial educator Karen Chan\, CFP (R)\, draws on twenty years of studying personal finance to help you sort it all out.<br />\n<br />\n<br />\nPresented by Karen Chan\, CFP (R)\, Karen Chan Financial Education &amp\; Consulting\, LLC. This program is part of the Smart investing@your library&reg\;\, a partnership with FINRA Investor Education Association and the American Library Association.
LOCATION:LINCOLN BELMONT BRANCH 1659 W. MELROSE STREET\, CHICAGO\, IL 60657
UID:e.1819.4841
SEQUENCE:3
DTSTAMP:20260420T050049Z
URL:https://members.lakeviewroscoevillage.org/events/details/smart-investing-your-library-finding-financial-advice-that-s-right-for-you-12-06-2016-4841
END:VEVENT

END:VCALENDAR
