BEGIN:VCALENDAR
VERSION:2.0
PRODID:-//ChamberMaster//Event Calendar 2.0//EN
METHOD:PUBLISH
X-PUBLISHED-TTL:P3D
REFRESH-INTERVAL:P3D
CALSCALE:GREGORIAN
BEGIN:VEVENT
DTSTART:20151117T150000Z
DTEND:20151117T170000Z
X-MICROSOFT-CDO-ALLDAYEVENT:FALSE
SUMMARY:Smart Power Strip Giveaway
DESCRIPTION:The Lakeview Chamber is hosting Elevate Energy (www.elevateenergy.org) at our office for a smart power strip giveaway to help you conserve energy and save money. Many electronic devices use electricity even when they are turned off. Plugging devices into a smart power strip can stop all electricity flow to devices in stand-by mode. In order to qualify for a free smart power strip\, you must have a Chicago address. Only one power strip per business or household is allowed and approximate value of a strip is $30.
X-ALT-DESC;FMTTYPE=text/html:<span style="color: rgb(34\, 34\, 34)\; font-family: arial\, sans-serif\; font-size: 12.8px\; line-height: normal\;">The Lakeview Chamber is hosting Elevate Energy (</span><a href="http://www.elevateenergy.org/" style="color: rgb(17\, 85\, 204)\; font-family: arial\, sans-serif\; font-size: 12.8px\; line-height: normal\;" target="_blank">www.elevateenergy.org</a><span style="color: rgb(34\, 34\, 34)\; font-family: arial\, sans-serif\; font-size: 12.8px\; line-height: normal\;">) at our office for a smart power strip giveaway to help you conserve energy and save money. Many electronic devices use electricity even when they are turned off. Plugging devices into a smart power strip can stop all electricity flow to devices in stand-by mode. In order to qualify for a free smart power strip\, you must have a Chicago address. Only one power strip per business or household is allowed and approximate value of a strip is $30.</span>
LOCATION:Lakeview Chamber 1409 W Addison\, Chicago\, IL 60613
UID:e.1819.2037
SEQUENCE:3
DTSTAMP:20260422T223327Z
URL:https://members.lakeviewroscoevillage.org/events/details/smart-power-strip-giveaway-11-17-2015-2037
END:VEVENT

END:VCALENDAR
