BEGIN:VCALENDAR
VERSION:2.0
PRODID:-//ChamberMaster//Event Calendar 2.0//EN
METHOD:PUBLISH
X-PUBLISHED-TTL:P3D
REFRESH-INTERVAL:P3D
CALSCALE:GREGORIAN
BEGIN:VEVENT
DTSTART:20160422T120000Z
DTEND:20160422T160000Z
X-MICROSOFT-CDO-ALLDAYEVENT:FALSE
SUMMARY:Smile On Dental Salon Invisalign Open House
DESCRIPTION:Join Smile On Dental Salon for an Invisalign Open House.\n\nTake Advantage of up to $1\,000 off Invisalign when you start treatment during the Open House. Schedule your appointment by April 19th to take advantage of these incredible savings. \n\n\n\nRefreshments will be served.
X-ALT-DESC;FMTTYPE=text/html:Join Smile On Dental Salon for an Invisalign Open House.<br />\nTake Advantage of up to $1\,000 off Invisalign when you start treatment during the Open House. Schedule your appointment by April 19th to take advantage of these incredible savings.&nbsp\;<br />\n<br />\nRefreshments will be served.&nbsp\;
LOCATION:Smile On Dental Salon and Sleep Apnea Center 1350 W Belmont Unit #1 Chicago\, IL 60657
UID:e.1819.2864
SEQUENCE:3
DTSTAMP:20260422T151627Z
URL:https://members.lakeviewroscoevillage.org/events/details/smile-on-dental-salon-invisalign-open-house-04-22-2016-2864
END:VEVENT

END:VCALENDAR
