BEGIN:VCALENDAR
VERSION:2.0
PRODID:-//ChamberMaster//Event Calendar 2.0//EN
METHOD:PUBLISH
X-PUBLISHED-TTL:P3D
REFRESH-INTERVAL:P3D
CALSCALE:GREGORIAN
BEGIN:VEVENT
DTSTART:20161201T011500Z
DTEND:20161201T023000Z
X-MICROSOFT-CDO-ALLDAYEVENT:FALSE
SUMMARY:Social Dance Lesson & Wine
DESCRIPTION:Ever want to get out on the dance floor at a wedding but wasn't sure what to do? Let Our Ballroom Dance Instructor give you a little more confidence in that department tonight! \n\nJoin us for a fun filled evening at Universal Wellness Source! This evening will begin with an energetic dance lesson (no partner required) that will get you up on your feet learning a Rumba\, Salsa and Hustle basic step. We will be close the evening with some wine and a brief discussion about posture and how it effects your everyday life and dance skills.\n\nThere are only 20 spots available. All you need to do is bring yourself and some excitement. No dance experience necessary. Let's Dance the night away!
X-ALT-DESC;FMTTYPE=text/html:<p>Ever want to get out on the dance floor at a wedding but wasn&#39\;t sure what to do? Let Our Ballroom Dance Instructor give you a little more confidence in that department tonight!&nbsp\;</p>\n\n<p>Join us for a fun filled evening at Universal Wellness Source! This evening will begin with an energetic dance lesson (no partner required) that will get you up on your feet learning a Rumba\, Salsa and Hustle basic step. We will be close the evening with some wine and a brief discussion about posture and how it effects your everyday life and dance skills.</p>\n\n<p>There are only 20 spots available. All you need to do is bring yourself and some excitement. No dance experience necessary. Let&#39\;s Dance the night away!&nbsp\;</p>\n
LOCATION:Universal Wellness Source 3324 N Halsted Chicago\, IL 60657
UID:e.1819.4856
SEQUENCE:3
DTSTAMP:20260420T064709Z
URL:https://members.lakeviewroscoevillage.org/events/details/social-dance-lesson-wine-11-30-2016-4856
END:VEVENT

END:VCALENDAR
