BEGIN:VCALENDAR
VERSION:2.0
PRODID:-//ChamberMaster//Event Calendar 2.0//EN
METHOD:PUBLISH
X-PUBLISHED-TTL:P3D
REFRESH-INTERVAL:P3D
CALSCALE:GREGORIAN
BEGIN:VEVENT
DTSTART:20131112T143000Z
DTEND:20131112T160000Z
X-MICROSOFT-CDO-ALLDAYEVENT:FALSE
SUMMARY:Social Media Seminar: Messaging for the Holidays
DESCRIPTION:Twitter. Facebook. Yelp. Pinterest. How can you make the most of them for your business during this holiday season? \n\n	We'll address this question and many more at our upcoming Brainergy session. Our expert\, Whitney Hewitt of Gatz Optimize\, will teach you how to strategically & efficiently engage your customers during the holidays via social media. \n\n	Making the most of social media marketing is free\, simple and can have a great impact if done the right way. \n\n	Join us to learn more! This will be a hands-on workshop so bring your laptop or tablet.\n\n	 \n\n	Light breakfast and coffee provided. Open to Chamber members and non-members.
X-ALT-DESC;FMTTYPE=text/html:<p>\n	<span style="color: rgb(51\, 51\, 51)\; line-height: 16px\; font-family: &quot\;trebuchet ms&quot\;\, geneva\; font-size: medium\;"><span data-mce-style="color: #333333\; line-height: 16px\; font-family: 'trebuchet ms'\, geneva\; font-size: medium\;" style="color: rgb(51\, 51\, 51)\; line-height: 16px\; font-family: &quot\;trebuchet ms&quot\;\, geneva\; font-size: medium\;">Twitter. Facebook. Yelp. Pinterest. How can you make the most of them for your business during this holiday season? </span></span></p>\n<p>\n	<span style="color: rgb(51\, 51\, 51)\; line-height: 16px\; font-family: &quot\;trebuchet ms&quot\;\, geneva\; font-size: medium\;"><span data-mce-style="color: #333333\; line-height: 16px\; font-family: 'trebuchet ms'\, geneva\; font-size: medium\;" style="color: rgb(51\, 51\, 51)\; line-height: 16px\; font-family: &quot\;trebuchet ms&quot\;\, geneva\; font-size: medium\;">We&#39\;ll address this question and many more at our upcoming Brainergy session. Our expert\, <span data-mce-style="color: #333333\; line-height: 16px\; font-family: 'trebuchet ms'\, geneva\; font-size: medium\;" style="color: rgb(51\, 51\, 51)\; line-height: 16px\; font-family: &quot\;trebuchet ms&quot\;\, geneva\; font-size: medium\;"><span data-mce-style="color: #993366\;" style="color: rgb(153\, 51\, 102)\;"><a data-mce-="" href="http://www.gatzoptimize.com/">Whitney Hewitt of&nbsp\;Gatz Optimize</a>\,</span></span> will teach you how to strategically &amp\; efficiently engage your customers during the holidays via social media. </span></span></p>\n<p>\n	<span style="color: rgb(51\, 51\, 51)\; line-height: 16px\; font-family: &quot\;trebuchet ms&quot\;\, geneva\; font-size: medium\;"><span data-mce-style="color: #333333\; line-height: 16px\; font-family: 'trebuchet ms'\, geneva\; font-size: medium\;" style="color: rgb(51\, 51\, 51)\; line-height: 16px\; font-family: &quot\;trebuchet ms&quot\;\, geneva\; font-size: medium\;">Making the most of social media marketing is free\, simple and can have a great impact if done the right way. </span></span></p>\n<p>\n	<span style="color: rgb(51\, 51\, 51)\; line-height: 16px\; font-family: &quot\;trebuchet ms&quot\;\, geneva\; font-size: medium\;"><span data-mce-style="color: #333333\; line-height: 16px\; font-family: 'trebuchet ms'\, geneva\; font-size: medium\;" style="color: rgb(51\, 51\, 51)\; line-height: 16px\; font-family: &quot\;trebuchet ms&quot\;\, geneva\; font-size: medium\;">Join us to learn more! This will be a hands-on workshop so bring your laptop or tablet.</span></span></p>\n<p>\n	&nbsp\;</p>\n<p>\n	<span style="color: rgb(51\, 51\, 51)\; line-height: 16px\; font-family: &quot\;trebuchet ms&quot\;\, geneva\; font-size: medium\;"><span data-mce-style="color: #333333\; line-height: 16px\; font-family: 'trebuchet ms'\, geneva\; font-size: medium\;" style="color: rgb(51\, 51\, 51)\; line-height: 16px\; font-family: &quot\;trebuchet ms&quot\;\, geneva\; font-size: medium\;">Light breakfast and coffee provided. Open to Chamber members and non-members.</span></span></p>\n<p>\n	&nbsp\;</p>\n
LOCATION:Mystic Celt | 3443 N. Southport
UID:e.1819.92
SEQUENCE:3
DTSTAMP:20260424T205716Z
URL:https://members.lakeviewroscoevillage.org/events/details/social-media-seminar-messaging-for-the-holidays-11-12-2013-92
END:VEVENT

END:VCALENDAR
