BEGIN:VCALENDAR
VERSION:2.0
PRODID:-//ChamberMaster//Event Calendar 2.0//EN
METHOD:PUBLISH
X-PUBLISHED-TTL:P3D
REFRESH-INTERVAL:P3D
CALSCALE:GREGORIAN
BEGIN:VEVENT
DTSTART:20170521T150000Z
DTEND:20170521T163000Z
X-MICROSOFT-CDO-ALLDAYEVENT:FALSE
SUMMARY:Songs of the Sea Party
DESCRIPTION:The Little Mermaid is swimming over to The Music Playhouse for a special under the sea themed party!\n\n\n\nJoin us for singing\, dancing\, crafts\, treats\, and a special appearance from your favorite famous mermaid!\n\n\n\nThis event is for children ages 0-6 and their parents or caregivers.  Children's tickets are $20\, grown-ups are free!  Click on the link to purchase tickets.
X-ALT-DESC;FMTTYPE=text/html:The Little Mermaid is swimming over to The Music Playhouse for a special under the sea themed party!<br />\n<br />\nJoin us for singing\, dancing\, crafts\, treats\, and a special appearance from your favorite famous mermaid!<br />\n<br />\nThis event is for children ages 0-6 and their parents or caregivers.&nbsp\; Children&#39\;s tickets are $20\, grown-ups are free!&nbsp\; Click on the link to purchase tickets.
LOCATION:The Music Playhouse of Chicago 3829 N Southport Ave Chicago\, IL 60613
UID:e.1819.5027
SEQUENCE:3
DTSTAMP:20260419T221022Z
URL:https://members.lakeviewroscoevillage.org/events/details/songs-of-the-sea-party-05-21-2017-5027
END:VEVENT

END:VCALENDAR
