BEGIN:VCALENDAR
VERSION:2.0
PRODID:-//ChamberMaster//Event Calendar 2.0//EN
METHOD:PUBLISH
X-PUBLISHED-TTL:P3D
REFRESH-INTERVAL:P3D
CALSCALE:GREGORIAN
BEGIN:VEVENT
DTSTART:20131025T003000Z
DTEND:20131025T023000Z
X-MICROSOFT-CDO-ALLDAYEVENT:FALSE
SUMMARY:Sound Opinions presents High Fidelity
DESCRIPTION:Jim DeRogatis and Greg Kot bring their Sound Opinions knowledge to legendary music film High Fidelity.\n\n\n	Every week\, "Sound Opinions" fires up smart and spirited discussions about a wide range of popular music\, from indie rock to classic rock\, hip hop to R&B\, and every genre under the son. pop music critic Jim DeRogatis and Chicago Tribune music critic Greg Kot\, invite you to head to the Music Box Theatre to see High Fidelity directed by Stephen Frears and starring John Cusack.
X-ALT-DESC;FMTTYPE=text/html:<div id="blurb" style="margin: 0px 0px 2ex\; padding: 0px\; border: 0px\; font-weight: bold\; font-family: Arial\, Helvetica\, sans-serif\; vertical-align: baseline\; color: rgb(51\, 51\, 51)\; line-height: 18px\;">\n	<p style="margin: 0px 0px 2ex\; padding: 0px 5px\; border: 0px\; font-weight: inherit\; font-style: inherit\; font-family: inherit\; vertical-align: baseline\;">\n		Jim DeRogatis and Greg Kot bring their Sound Opinions knowledge to legendary music film&nbsp\;<cite style="font-family: Georgia\, 'Times New Roman'\, Times\, serif\;">High Fidelity</cite>.</p>\n</div>\n<p style="margin: 2ex 0px 0px\; padding: 0px 5px\; border: 0px\; font-family: Arial\, Helvetica\, sans-serif\; vertical-align: baseline\; color: rgb(51\, 51\, 51)\; line-height: 18px\;">\n	Every week\, &ldquo\;Sound Opinions&rdquo\; fires up smart and spirited discussions about a wide range of popular music\, from indie rock to classic rock\, hip hop to R&amp\;B\, and every genre under the son. pop music critic Jim DeRogatis and Chicago Tribune music critic Greg Kot\, invite you to head to the Music Box Theatre to see&nbsp\;<cite style="font-family: Georgia\, 'Times New Roman'\, Times\, serif\; font-weight: bold !important\;">High Fidelity</cite>&nbsp\;directed by Stephen Frears and starring John Cusack.</p>\n
LOCATION:Music Box Theatre
UID:e.1819.63
SEQUENCE:3
DTSTAMP:20260424T224702Z
URL:https://members.lakeviewroscoevillage.org/events/details/sound-opinions-presents-high-fidelity-10-24-2013-63
END:VEVENT

END:VCALENDAR
