BEGIN:VCALENDAR
VERSION:2.0
PRODID:-//ChamberMaster//Event Calendar 2.0//EN
METHOD:PUBLISH
X-PUBLISHED-TTL:P3D
REFRESH-INTERVAL:P3D
CALSCALE:GREGORIAN
BEGIN:VEVENT
DTSTART:20161202T230000Z
DTEND:20161203T030000Z
X-MICROSOFT-CDO-ALLDAYEVENT:FALSE
SUMMARY:Southport Holiday Stroll
DESCRIPTION:The 21st annual Southport Holiday Stroll kicks off the holiday season in the neighborhood. The event will feature free photos with Santa at Sheil Park from 5:30-7:30 pm plus festive entertainment\, refreshments and holiday specials at participating businesses all evening long!
X-ALT-DESC;FMTTYPE=text/html:The 21st annual Southport Holiday Stroll kicks off the holiday season in the neighborhood. The event will feature free photos with Santa at Sheil Park from 5:30-7:30 pm plus festive entertainment\, refreshments and holiday specials at participating businesses all evening long!
LOCATION:Southport from Belmont to Irving Park
UID:e.1819.4842
SEQUENCE:3
DTSTAMP:20260420T045806Z
URL:https://members.lakeviewroscoevillage.org/events/details/southport-holiday-stroll-12-02-2016-4842
END:VEVENT

END:VCALENDAR
