BEGIN:VCALENDAR
VERSION:2.0
PRODID:-//ChamberMaster//Event Calendar 2.0//EN
METHOD:PUBLISH
X-PUBLISHED-TTL:P3D
REFRESH-INTERVAL:P3D
CALSCALE:GREGORIAN
BEGIN:VEVENT
DTSTART:20151204T230000Z
DTEND:20151205T030000Z
X-MICROSOFT-CDO-ALLDAYEVENT:FALSE
SUMMARY:Southport Holiday Stroll
DESCRIPTION:The 20th annual Southport Holiday Stroll kicks off the holiday season in the neighborhood. The event features Santa and Mrs. Claus strolling the street and visiting shops along with festive entertainment and holiday specials at participating businesses.\n\n\n\nLearn More
X-ALT-DESC;FMTTYPE=text/html:The 20th annual Southport Holiday Stroll kicks off the holiday season in the neighborhood. The event&nbsp\;features Santa and Mrs. Claus strolling the street and visiting shops along with festive entertainment and holiday specials at participating businesses.<br />\n<br />\n<a href="http://www.lakeviewchamber.com/events/holiday-events/southport-holiday-stroll.aspx">Learn More</a>
LOCATION:Southport from Belmont to Irving Park
UID:e.1819.2251
SEQUENCE:3
DTSTAMP:20260422T223442Z
URL:https://members.lakeviewroscoevillage.org/events/details/southport-holiday-stroll-12-04-2015-2251
END:VEVENT

END:VCALENDAR
