BEGIN:VCALENDAR
VERSION:2.0
PRODID:-//ChamberMaster//Event Calendar 2.0//EN
METHOD:PUBLISH
X-PUBLISHED-TTL:P3D
REFRESH-INTERVAL:P3D
CALSCALE:GREGORIAN
BEGIN:VEVENT
DTSTART:20140312T140000Z
DTEND:20140312T144500Z
X-MICROSOFT-CDO-ALLDAYEVENT:FALSE
SUMMARY:Southport Merchant Meeting
DESCRIPTION:Held the 2nd Wednesday of each month. Open meeting for all Southport Avenue business owners and managers.\n\n\n\nAgenda items include: upcoming events\, street-wide news and updates\, and the opportunity to meet your fellow business owners and network.\n\n\n\nMust represent a Southport or other approved business to attend. No solicitations.\n\n\n\nCoffee and bagels graciously provided by Mystic Celt.
X-ALT-DESC;FMTTYPE=text/html:Held the 2<sup>nd</sup> Wednesday of each month. Open meeting for all Southport Avenue business owners and managers.<br />\n<br />\nAgenda items include: upcoming events\, street-wide news and updates\, and the&nbsp\;opportunity to meet your fellow business owners and network.<br />\n<br />\nMust represent a Southport or other approved business to attend. No solicitations.<br />\n<br />\nCoffee and bagels graciously provided by Mystic Celt.
LOCATION:Mystic Celt 3443 N. Southport Ave.
UID:e.1819.195
SEQUENCE:3
DTSTAMP:20260424T140507Z
URL:https://members.lakeviewroscoevillage.org/events/details/southport-merchant-meeting-03-12-2014-195
END:VEVENT

END:VCALENDAR
