BEGIN:VCALENDAR
VERSION:2.0
PRODID:-//ChamberMaster//Event Calendar 2.0//EN
METHOD:PUBLISH
X-PUBLISHED-TTL:P3D
REFRESH-INTERVAL:P3D
CALSCALE:GREGORIAN
BEGIN:VEVENT
DTSTART:20130814T140000Z
DTEND:20130814T150000Z
X-MICROSOFT-CDO-ALLDAYEVENT:FALSE
SUMMARY:Southport Merchant Meeting
DESCRIPTION:Held the 2nd Wednesday of each month. Open meeting for all Southport Avenue merchants. Agenda items include: upcoming events\, street-wide news and updates\, opportunity to meet your fellow business owners and network.
X-ALT-DESC;FMTTYPE=text/html:Held the 2<sup>nd</sup> Wednesday of each month. Open meeting for all Southport Avenue merchants. Agenda items include: upcoming events\, street-wide news and updates\, opportunity to meet your fellow business owners and network.
LOCATION:Mystic Celt 3443 N. Southport Ave.
UID:e.1819.17
SEQUENCE:3
DTSTAMP:20260425T040358Z
URL:https://members.lakeviewroscoevillage.org/events/details/southport-merchant-meeting-08-14-2013-17
END:VEVENT

END:VCALENDAR
