BEGIN:VCALENDAR
VERSION:2.0
PRODID:-//ChamberMaster//Event Calendar 2.0//EN
METHOD:PUBLISH
X-PUBLISHED-TTL:P3D
REFRESH-INTERVAL:P3D
CALSCALE:GREGORIAN
BEGIN:VEVENT
DTSTART:20140115T150000Z
DTEND:20140115T160000Z
X-MICROSOFT-CDO-ALLDAYEVENT:FALSE
SUMMARY:Southport Merchant Meeting- NEW date
DESCRIPTION:NOTE: due to cold weather\, this meeting is being pushed back 1 week to 1/15/14.\n\n\n\n\n\nHeld the 2nd Wednesday of each month. Open meeting for all Southport Avenue business owners and managers.\n\n\n\nAgenda items include: upcoming events\, street-wide news and updates\, and the opportunity to meet your fellow business owners and network.\n\n\n\nMust represent a Southport or other approved business to attend. No solicitations.\n\n\n\nCoffee and bagels graciously provided by Mystic Celt.
X-ALT-DESC;FMTTYPE=text/html:<strong>NOTE:</strong> due to cold weather\, this meeting is being pushed back 1 week to 1/15/14.<br />\n<br />\n<br />\nHeld the 2<sup>nd</sup> Wednesday of each month. Open meeting for all Southport Avenue business owners and managers.<br />\n<br />\nAgenda items include: upcoming events\, street-wide news and updates\, and the&nbsp\;opportunity to meet your fellow business owners and network.<br />\n<br />\nMust represent a Southport or other approved business to attend. No solicitations.<br />\n<br />\nCoffee and bagels graciously provided by Mystic Celt.
LOCATION:Mystic Celt 3443 N. Southport Ave.
UID:e.1819.136
SEQUENCE:3
DTSTAMP:20260424T173349Z
URL:https://members.lakeviewroscoevillage.org/events/details/southport-merchant-meeting-new-date-01-15-2014-136
END:VEVENT

END:VCALENDAR
