BEGIN:VCALENDAR
VERSION:2.0
PRODID:-//ChamberMaster//Event Calendar 2.0//EN
METHOD:PUBLISH
X-PUBLISHED-TTL:P3D
REFRESH-INTERVAL:P3D
CALSCALE:GREGORIAN
BEGIN:VEVENT
DTSTART;VALUE=DATE:20140614
DTEND;VALUE=DATE:20140615
TRANSP:TRANSPARENT
X-MICROSOFT-CDO-ALLDAYEVENT:TRUE
SUMMARY:Southport's Sweetest Things Shopping Event
DESCRIPTION:Stroll along Southport and check out your favorite shops' featured items while also enjoying refreshments. Consider it the Oprah's Favorite Things of Southport Ave!\n\n\n\n\n\n \n\nParticipating shops and featured items!\n\nAligned Modern Health  $60 for 60-minute massage\n\nA Little Bit of This Chicago themed products\n\nAnthony's Italian Ice Mango-raspberry Italian Ice\n\nBabydolls Boutique baby items\, women's accessories and refreshments\n\nCaf  Tola Nutella/Banana/Strawberry Empanada\n\nCandyality Top Gummy Treats Special $23 ($45 value)\n\nCrosby's Kitchen Biscuits & Strawberry Rhubarb Jam $8\n\nClick Shoes new wedge sandals and refreshments\n\nDAVIDsTEA 30% off select items\n\nDeleece Restaurant \n\nDog-a-holics Chicago themed dog collars & cookies\n\nHot Mama Maxi dresses and refreshments\n\nIndira Salon & Spa \n\nJulius Meinl Iced MelangeThe Viennese classic\, re-imagined by layering Julius Meinl espresso and sweetened frothed milk\, served over ice.  \n\nLululemon\n\nM2 Boutique Arm Candy! 25% off bracelets to stack and layer for summer!  \n\nMint Julep 20% off all dresses\, including our Trunk Show featuring Seesaw Society\, which is 6mo-8yr traditional\, playful frocks for boys and girls.  \n\nMystic Celt\n\nNewport Bar & Grill $6 Skillet Cookie\n\nNoodles & Company\n\nPotbelly New Flats & Frozen Raspberry Lemonade\n\nQue Syrah  Mimosa Muscato\n\n Second Time Around Milly Handbag $249 ($465 retail) \n\nSensational Bites homemade ice cream sandwiches and our fresh made lemonade!\n\nShe One Far Nine 3-Way Bag $36  \n\nSouthport Grocery Jake's Giard\n\nSpencer's Jolly Posh Victoria Sponge Cake\n\nUncle Dan's OG Squoosh and Yoga Spree Flip Flops for Men and Women- vegan and vegetarian
X-ALT-DESC;FMTTYPE=text/html:<div><span style="font-size: 16px\;">Stroll along Southport and check out your favorite shops&#39\; featured items while also enjoying refreshments. Consider it the Oprah&#39\;s Favorite Things of Southport Ave!</span></div>\n\n<div style="text-align: center\;"><br />\n<br />\n&nbsp\;</div>\n\n<div><u><strong><span style="font-size: 16px\;">Participating shops and featured items!</span></strong></u><br />\n<a href="http://www.alignedmodernhealth.com/">Aligned Modern Health&nbsp\;</a>&nbsp\;$60 for 60-minute massage<br />\n<a href="http://www.abitofthis.com/">A Little Bit of This</a>&nbsp\;Chicago themed products<br />\n<a href="http://www.anthonysice.com/">Anthony&rsquo\;s Italian Ice</a>&nbsp\;Mango-raspberry Italian Ice<br />\n<a href="https://www.facebook.com/BabyDollsBoutiqueChicago">Babydolls&nbsp\;Boutique</a>&nbsp\;baby items\, women&#39\;s accessories and refreshments<br />\n<a href="https://www.facebook.com/ChicagoCatering">Caf&eacute\;&nbsp\;Tola</a>&nbsp\;Nutella/Banana/Strawberry&nbsp\;Empanada<br />\n<a href="https://www.facebook.com/pages/Candyality/68859891977">Candyality</a>&nbsp\;Top Gummy Treats Special $23 ($45 value)<br />\n<a href="http://www.crosbyschicago.com/">Crosby&rsquo\;s Kitchen</a>&nbsp\;Biscuits &amp\; Strawberry Rhubarb Jam $8<br />\n<a href="https://www.facebook.com/clickshoes">Click Shoes</a>&nbsp\;new wedge sandals and refreshments<br />\n<a href="http://www.davidstea.com/">DAVIDsTEA</a>&nbsp\;30% off select items<br />\n<a href="http://www.deleece.com">Deleece&nbsp\;Restaurant&nbsp\;</a><br />\n<a href="http://www.dog-a-holics.com/">Dog-a-holics</a>&nbsp\;Chicago themed dog collars &amp\; cookies<br />\n<a href="https://www.facebook.com/shophotmama">Hot Mama</a>&nbsp\;Maxi dresses and refreshments<br />\n<a href="http://www.indirasalonspa.com/">Indira&nbsp\;Salon &amp\; Spa</a>&nbsp\;<br />\n<a href="http://northamerica.meinl.com/">Julius&nbsp\;Meinl</a>&nbsp\;Iced&nbsp\;MelangeThe&nbsp\;Viennese classic\, re-imagined by layering Julius&nbsp\;Meinl&nbsp\;espresso and sweetened frothed milk\, served over ice.&nbsp\;&#8203\;<br />\n<a href="https://www.facebook.com/lululemon">Lululemon</a><br />\n<a href="https://www.facebook.com/mboutique.southport">M2&nbsp\;Boutique</a>&nbsp\;Arm Candy! 25% off bracelets to stack and layer for summer!&nbsp\;&#8203\;<br />\n<a href="http://www.facebook.com/pages/Mint-Julep/34089828177">Mint Julep</a>&nbsp\;20% off all dresses\, including our Trunk Show featuring Seesaw Society\, which is&nbsp\;6mo-8yr&nbsp\;traditional\, playful frocks for boys and girls.&nbsp\;&#8203\;<br />\n<a href="http://www.mysticceltchicago.com/">Mystic Celt</a><br />\n<a href="https://www.facebook.com/Thenewportchi">Newport Bar &amp\; Grill</a>&nbsp\;$6 Skillet Cookie<br />\n<a href="http://noodles.com/">Noodles &amp\; Company</a><br />\n<a href="http://www.potbelly.com/">Potbelly</a>&nbsp\;New Flats &amp\; Frozen Raspberry Lemonade<br />\n<a href="http://www.quesyrah.com/">Que&nbsp\;Syrah</a>&nbsp\; Mimosa&nbsp\;Muscato<br />\n<a href="http://www.secondtimearound.net/">&#8203\;Second Time Around</a> Milly Handbag&nbsp\;$249 ($465 retail)&#8203\;<br />\n<a href="http://www.sensationalbites.com/">Sensational Bites</a>&nbsp\;homemade ice cream sandwiches and our fresh made lemonade!<br />\n<a href="http://www.https/www.facebook.com/pages/She-One/56901388057">She One</a>&nbsp\;Far Nine 3-Way Bag $36&nbsp\;&nbsp\;<br />\n<a href="http://www.southportgrocery.com/">Southport Grocery</a>&nbsp\;Jake&rsquo\;s&nbsp\;Giard<br />\n<a href="http://www.jollyposh.com/contact-us/">Spencer&rsquo\;s Jolly</a>&nbsp\;Posh Victoria Sponge Cake<br />\n<a href="https://www.facebook.com/UncleDans">Uncle Dan&rsquo\;s</a>&nbsp\;OG&nbsp\;Squoosh&nbsp\;and Yoga Spree Flip Flops for Men and Women- vegan and vegetarian</div>\n
LOCATION:Southport Avenue between Belmont and Irving.
UID:e.1819.288
SEQUENCE:3
DTSTAMP:20260424T074257Z
URL:https://members.lakeviewroscoevillage.org/events/details/southport-s-sweetest-things-shopping-event-06-14-2014-288
END:VEVENT

END:VCALENDAR
