BEGIN:VCALENDAR
VERSION:2.0
PRODID:-//ChamberMaster//Event Calendar 2.0//EN
METHOD:PUBLISH
X-PUBLISHED-TTL:P3D
REFRESH-INTERVAL:P3D
CALSCALE:GREGORIAN
BEGIN:VEVENT
DTSTART:20170529T150000Z
DTEND:20170530T000000Z
X-MICROSOFT-CDO-ALLDAYEVENT:FALSE
SUMMARY:Southport Sidewalk Sale
DESCRIPTION:Kick off the Summer with these amazing deals offered by the retailers of the Southport Corridor. Stop by to see what they have to offer! \n\nThank you to our sponsor Capital One!
X-ALT-DESC;FMTTYPE=text/html:<p>Kick off the Summer with these amazing deals offered by the retailers of the Southport Corridor. Stop by to see what they have to offer!&nbsp\;</p>\n\n<p>Thank you to our sponsor Capital One!</p>\n
LOCATION:Southport Corridor Various locations from Belmont to Irving Park
UID:e.1819.5175
SEQUENCE:3
DTSTAMP:20260419T220738Z
URL:https://members.lakeviewroscoevillage.org/events/details/southport-sidewalk-sale-05-29-2017-5175
END:VEVENT

END:VCALENDAR
