BEGIN:VCALENDAR
VERSION:2.0
PRODID:-//ChamberMaster//Event Calendar 2.0//EN
METHOD:PUBLISH
X-PUBLISHED-TTL:P3D
REFRESH-INTERVAL:P3D
CALSCALE:GREGORIAN
BEGIN:VEVENT
DTSTART:20150707T150000Z
DTEND:20150708T010000Z
X-MICROSOFT-CDO-ALLDAYEVENT:FALSE
SUMMARY:Southport Stop and Shop
DESCRIPTION:Fleet Feet Sports will be hosting Southport Corridor employees to a shopping experience in our Lakeview location where they can receive 20% off all products. The evening will be capped off with a private beer tasting in the store by our new neighbors Corridor Brewery & Provisions!
X-ALT-DESC;FMTTYPE=text/html:Fleet Feet Sports will be hosting Southport Corridor employees to a shopping experience in our Lakeview location where they can receive 20% off all products. The evening will be capped off with a private beer tasting in the store by our new neighbors Corridor Brewery &amp\; Provisions!
LOCATION:Fleet Feet Sports 3359 N. Southport Ave. Chicago\, IL. 60657
UID:e.1819.1771
SEQUENCE:3
DTSTAMP:20260423T061009Z
URL:https://members.lakeviewroscoevillage.org/events/details/southport-stop-and-shop-07-07-2015-1771
END:VEVENT

END:VCALENDAR
