BEGIN:VCALENDAR
VERSION:2.0
PRODID:-//ChamberMaster//Event Calendar 2.0//EN
METHOD:PUBLISH
X-PUBLISHED-TTL:P3D
REFRESH-INTERVAL:P3D
CALSCALE:GREGORIAN
BEGIN:VEVENT
DTSTART:20161123T010000Z
DTEND:20161123T030000Z
X-MICROSOFT-CDO-ALLDAYEVENT:FALSE
SUMMARY:Spanish Guitar and Wine Tasting
DESCRIPTION:We are thrilled to have David Chiriboga\, a musician of Ecuadorian descent born and raised in Chicago\, back to The Spanish Square. David's style is based on Flamenco and Spanish Classical guitar. He has attended workshops along with private studies in Granada\, Madrid\, and Sevilla(Spain) to further the further his ability and knowledge of the flamenco guitar.\n\nJoin us for a night of tapas\, wine\, friends and David's beautiful guitar playing in the background. It will transfer straight to a plaza in Sevilla!  Be sure to check out the Bodega and taste some delicious Spanish wines that we will have available to sample.
X-ALT-DESC;FMTTYPE=text/html:<p>We are&nbsp\;thrilled to have David Chiriboga\, a musician of Ecuadorian descent born and raised in Chicago\, back to The Spanish Square. David&rsquo\;s style is based on Flamenco and Spanish Classical guitar. He has attended workshops along with private studies in Granada\, Madrid\, and Sevilla(Spain) to further the further his ability and knowledge of the flamenco guitar.</p>\n\n<p>Join us for a night of tapas\, wine\, friends and David&rsquo\;s beautiful guitar playing in the background. It will transfer straight to a plaza in Sevilla! &nbsp\;Be sure to check out the Bodega and taste some delicious Spanish wines that we will have available to sample.</p>\n
LOCATION:The Spanish Square 1358 W Belmont Ave\, Chicago IL 60657
UID:e.1819.4852
SEQUENCE:3
DTSTAMP:20260420T064708Z
URL:https://members.lakeviewroscoevillage.org/events/details/spanish-guitar-and-wine-tasting-11-22-2016-4852
END:VEVENT

END:VCALENDAR
