BEGIN:VCALENDAR
VERSION:2.0
PRODID:-//ChamberMaster//Event Calendar 2.0//EN
METHOD:PUBLISH
X-PUBLISHED-TTL:P3D
REFRESH-INTERVAL:P3D
CALSCALE:GREGORIAN
BEGIN:VEVENT
DTSTART:20160924T200000Z
DTEND:20160924T230000Z
X-MICROSOFT-CDO-ALLDAYEVENT:FALSE
SUMMARY:Sparrow and The Machine Band
DESCRIPTION:Enjoy live music at the Lincoln Hub! Featuring Sparrow and The Machine Band with Bradley Parker-Sparrow\, Joanie Pallatto\, John Devlin\, & Luiz Ewerling playing jazz/Latin new music.\n\n\n\n"Days\, the CD is their best work\, a wonderful\, stirring\, provocative gathering of 11 original songs"\n\n- Rick Kogan\, The Chicago Tribune\n\n\n\nMusic at The Lincoln Hub is presented by the Lakeview Chamber of Commerce\, S&G Restaurant and Southport Records.
X-ALT-DESC;FMTTYPE=text/html:Enjoy live music at the Lincoln Hub! Featuring&nbsp\;Sparrow and The Machine Band&nbsp\;with Bradley Parker-Sparrow\, Joanie Pallatto\, John Devlin\, &amp\; Luiz Ewerling playing jazz/Latin new music.<br />\n<br />\n&quot\;Days\, the CD is their best work\, a wonderful\, stirring\, provocative gathering of 11&nbsp\;original songs&quot\;<br />\n- Rick Kogan\,&nbsp\;<em>The Chicago Tribune</em><br />\n<br />\nMusic at The Lincoln Hub is presented by the Lakeview Chamber of Commerce\, S&amp\;G Restaurant and Southport Records.<br />\n
LOCATION:The Lincoln Hub Lincoln/Southport/Wellington (outside S&G Restaurant)
UID:e.1819.3582
SEQUENCE:3
DTSTAMP:20260422T062205Z
URL:https://members.lakeviewroscoevillage.org/events/details/sparrow-and-the-machine-band-09-24-2016-3582
END:VEVENT

END:VCALENDAR
