BEGIN:VCALENDAR
VERSION:2.0
PRODID:-//ChamberMaster//Event Calendar 2.0//EN
METHOD:PUBLISH
X-PUBLISHED-TTL:P3D
REFRESH-INTERVAL:P3D
CALSCALE:GREGORIAN
BEGIN:VEVENT
DTSTART:20140113T230000Z
DTEND:20140114T013000Z
X-MICROSOFT-CDO-ALLDAYEVENT:FALSE
SUMMARY:Special 47th Ward Night
DESCRIPTION:47th Ward Night with Alderman Pawar\n\n	\n\n	To ensure we've heard all of your issues and concerns\, my office is hosting a special Ward Night on Monday\, January\, 13\, from 5:00pm to 7:30pm.\n\n	\n\n	I want to make sure we can discuss all issues in person. We want to hear from you and will stay in the office until every person has an opportunity to meet with me in person.
X-ALT-DESC;FMTTYPE=text/html:<p style="margin: 0in 0in 0pt\;">\n	<span style="color: black\; font-family: \;">47th Ward Night with Alderman Pawar<br />\n	<br />\n	To ensure we&#39\;ve heard all of your issues and concerns\, my office is hosting a <strong><span style="font-family: \;">special Ward Night on Monday\, January\, 13\, from 5:00pm to 7:30pm</span></strong>.<br />\n	<br />\n	I want to make sure we can discuss all issues in person. We want to hear from you and will stay in the office until every person has an opportunity to meet with me in person.</span></p>\n
LOCATION:47th Ward Public Service Office 4243 N. Lincoln Ave Chicago\, IL 60618
UID:e.1819.178
SEQUENCE:3
DTSTAMP:20260424T172642Z
URL:https://members.lakeviewroscoevillage.org/events/details/special-47th-ward-night-01-13-2014-178
END:VEVENT

END:VCALENDAR
