BEGIN:VCALENDAR
VERSION:2.0
PRODID:-//ChamberMaster//Event Calendar 2.0//EN
METHOD:PUBLISH
X-PUBLISHED-TTL:P3D
REFRESH-INTERVAL:P3D
CALSCALE:GREGORIAN
BEGIN:VEVENT
DTSTART:20170502T230000Z
DTEND:20170503T000000Z
X-MICROSOFT-CDO-ALLDAYEVENT:FALSE
SUMMARY:Special SSA 27 Commission Meeting
DESCRIPTION:
X-ALT-DESC;FMTTYPE=text/html:
LOCATION:Sheil Park 3505 N. Southport Ave.
UID:e.1819.5023
SEQUENCE:3
DTSTAMP:20260419T220449Z
URL:https://members.lakeviewroscoevillage.org/events/details/special-ssa-27-commission-meeting-05-02-2017-5023
END:VEVENT

END:VCALENDAR
