BEGIN:VCALENDAR
VERSION:2.0
PRODID:-//ChamberMaster//Event Calendar 2.0//EN
METHOD:PUBLISH
X-PUBLISHED-TTL:P3D
REFRESH-INTERVAL:P3D
CALSCALE:GREGORIAN
BEGIN:VEVENT
DTSTART:20161105T143000Z
DTEND:20161105T170000Z
X-MICROSOFT-CDO-ALLDAYEVENT:FALSE
SUMMARY:Spiel Haus
DESCRIPTION:Spend a morning filled with fun! Kleine Deutschschule offers games\, crafts\, songs\, stories and tons of Spa !
X-ALT-DESC;FMTTYPE=text/html:<span style="background-color:rgb(255\, 255\, 255)\; color:rgb(75\, 79\, 86)\; font-family:helvetica\,arial\,sans-serif\; font-size:14px">Spend a morning filled with fun! Kleine Deutschschule offers games\, crafts\, songs\, stories and tons of Spa&szlig\;!</span>
LOCATION:Kleine Deutschschule - German Language Center 1449 W Irving Park Rd Chicago\, IL 60613
UID:e.1819.4625
SEQUENCE:3
DTSTAMP:20260420T063915Z
URL:https://members.lakeviewroscoevillage.org/events/details/spiel-haus-11-05-2016-4625
END:VEVENT

END:VCALENDAR
