BEGIN:VCALENDAR
VERSION:2.0
PRODID:-//ChamberMaster//Event Calendar 2.0//EN
METHOD:PUBLISH
X-PUBLISHED-TTL:P3D
REFRESH-INTERVAL:P3D
CALSCALE:GREGORIAN
BEGIN:VEVENT
DTSTART:20150110T180000Z
DTEND:20150110T190000Z
X-MICROSOFT-CDO-ALLDAYEVENT:FALSE
SUMMARY:Spindle Fitness-Complementary Yoga
DESCRIPTION:Complimentary Yoga:  Saturday\, January 10th at 12pm w/ Mikhaila Woodall\n\n \nBring a friend and your yoga mat to our complimentary monthly yoga practice onSaturday\, January 10th at 12pm.  This class will be instructed by our friend Mikhaila Woodall.
X-ALT-DESC;FMTTYPE=text/html:<span style="font-family: Verdana\, Geneva\, Arial\, Helvetica\, sans-serif\; font-size: 10pt\; line-height: normal\; color: rgb(0\, 59\, 7)\;"><b>Complimentary Yoga: &nbsp\;<span class="aBn" data-term="goog_1437180051" style="border-bottom-width: 1px\; border-bottom-style: dashed\; border-bottom-color: rgb(204\, 204\, 204)\; position: relative\; top: -2px\; z-index: 0\;" tabindex="0"><span class="aQJ" style="position: relative\; top: 2px\; z-index: -1\;">Saturday\, January 10th at 12pm</span></span>&nbsp\;w/ Mikhaila Woodall</b></span><br style="color: rgb(0\, 0\, 0)\; font-family: Verdana\, Geneva\, Arial\, Helvetica\, sans-serif\; font-size: 13.6000003814697px\; line-height: normal\;" />\n&nbsp\;\n<p style="color: rgb(0\, 0\, 0)\; font-family: Verdana\, Geneva\, Arial\, Helvetica\, sans-serif\; font-size: 13.6000003814697px\; line-height: normal\; margin-top: 0px\; margin-bottom: 0px\;">Bring a friend and your yoga mat to our complimentary monthly yoga practice on<span class="aBn" data-term="goog_1437180052" style="border-bottom-width: 1px\; border-bottom-style: dashed\; border-bottom-color: rgb(204\, 204\, 204)\; position: relative\; top: -2px\; z-index: 0\;" tabindex="0"><span class="aQJ" style="position: relative\; top: 2px\; z-index: -1\;">Saturday</span></span><span class="aBn" data-term="goog_1437180052" style="border-bottom-width: 1px\; border-bottom-style: dashed\; border-bottom-color: rgb(204\, 204\, 204)\; position: relative\; top: -2px\; z-index: 0\;" tabindex="0"><span class="aQJ" style="position: relative\; top: 2px\; z-index: -1\;">\, January 10th at 12pm</span></span>.&nbsp\; This class will be instructed by our friend Mikhaila Woodall.</p>\n
LOCATION:Spindle Fitness 1153 W. Diversey
UID:e.1819.1353
SEQUENCE:3
DTSTAMP:20260423T190211Z
URL:https://members.lakeviewroscoevillage.org/events/details/spindle-fitness-complementary-yoga-01-10-2015-1353
END:VEVENT

END:VCALENDAR
