BEGIN:VCALENDAR
VERSION:2.0
PRODID:-//ChamberMaster//Event Calendar 2.0//EN
METHOD:PUBLISH
X-PUBLISHED-TTL:P3D
REFRESH-INTERVAL:P3D
CALSCALE:GREGORIAN
BEGIN:VEVENT
DTSTART:20160514T170000Z
DTEND:20160514T190000Z
X-MICROSOFT-CDO-ALLDAYEVENT:FALSE
SUMMARY:Spindle Kettlebell Workshop 5/14
DESCRIPTION:We are holding our next two hour kettlebell event for members and guests on Saturday\, May 14th from 12pm - 2pm. Plan to head out for a beer afterwards!\n\n\n\nThis is a great opportunity to learn the basics and add great exercises to your program. We will not add kettlebell exercises like the swing to your programs until we have cleared you to do them! We will also have a separate group for experienced kettlebell users where we will go over the finer points of basic exercises and teach more advanced movements.\n\n\n\nLVCC Discount: $40
X-ALT-DESC;FMTTYPE=text/html:<span style="color:rgb(78\, 86\, 101)\; font-family:helvetica\,arial\,sans-serif\; font-size:14px">We are holding our next two hour kettlebell event for members and guests on Saturday\, May 14th from 12pm - 2pm. Plan to head out for a beer afterwards!</span><br />\n<br />\n<span style="color:rgb(78\, 86\, 101)\; font-family:helvetica\,arial\,sans-serif\; font-size:14px">This is a great opportunity to learn the basics and add great exercises to your program. We will not add kettlebell exercises like the swing to your programs until we have cleared you to do them! We will also have a separate group for experienced kettlebell users where we will go over the finer points of basic exercises and teach more advanced movements.</span><br />\n<br />\n<font color="#4e5665" face="helvetica\, arial\, sans-serif"><span style="font-size:14px">LVCC Discount: $40</span></font>
LOCATION:Spindle Fitness 1153 W Diversey Pkwy
UID:e.1819.2945
SEQUENCE:3
DTSTAMP:20260422T114348Z
URL:https://members.lakeviewroscoevillage.org/events/details/spindle-kettlebell-workshop-5-14-05-14-2016-2945
END:VEVENT

END:VCALENDAR
