BEGIN:VCALENDAR
VERSION:2.0
PRODID:-//ChamberMaster//Event Calendar 2.0//EN
METHOD:PUBLISH
X-PUBLISHED-TTL:P3D
REFRESH-INTERVAL:P3D
CALSCALE:GREGORIAN
BEGIN:VEVENT
DTSTART:20131101T230000Z
DTEND:20131102T020000Z
X-MICROSOFT-CDO-ALLDAYEVENT:FALSE
SUMMARY:Spirit of Youth Gala Benefitting National Runaway Safeline
DESCRIPTION:The mission of the National Runaway Safeline (NRS) is to keep America's runaway\, homeless and at-risk youth safe and off the streets.\n\n\n\nJoin us for our annual Spirit of Youth Gala to help us raise funds and continue supporting and keeping safe at-risk youth.\n\n\n\nEnjoy Strolling Dinner\, Libations & Music!
X-ALT-DESC;FMTTYPE=text/html:<span style="font-family: calibri\;"><em><span style="font-size: 12pt\;">The mission of the National Runaway Safeline (NRS) is to keep America&rsquo\;s runaway\, homeless and at-risk youth safe and off the streets.</span></em><br />\n<br />\n<span style="font-size: 12pt\;">Join us for our annual Spirit of Youth Gala to help us raise funds and continue supporting and keeping safe at-risk youth.<br />\n<br />\nEnjoy Strolling Dinner\, Libations &amp\; Music!</span></span><br />\n
LOCATION:The Palmer House | Grand Ballroom 17 E. Monroe St.\, Chicago\, IL
UID:e.1819.93
SEQUENCE:3
DTSTAMP:20260424T210117Z
URL:https://members.lakeviewroscoevillage.org/events/details/spirit-of-youth-gala-benefitting-national-runaway-safeline-11-01-2013-93
END:VEVENT

END:VCALENDAR
