BEGIN:VCALENDAR
VERSION:2.0
PRODID:-//ChamberMaster//Event Calendar 2.0//EN
METHOD:PUBLISH
X-PUBLISHED-TTL:P3D
REFRESH-INTERVAL:P3D
CALSCALE:GREGORIAN
BEGIN:VEVENT
DTSTART:20160423T223000Z
DTEND:20160424T000000Z
X-MICROSOFT-CDO-ALLDAYEVENT:FALSE
SUMMARY:Spring Open House Guest Party
DESCRIPTION:Have you been dreaming of LEARNING TO DANCE for months? ...Years? ...Your whole life?\n\nDo you want an exciting new form of EXERCISE?\n\nAre you getting married and want to look & feel great dancing at your WEDDING?\n\nLooking for a stimulating NEW HOBBY or DATE NIGHT?\n\nOr are you simply curious about your new NEIGHBORHOOD Arthur Murray??\n\nWell\, this is YOUR OPPORTUNITY!  We want to welcome you from 5:30-7:00pm on Saturday\, April 23rd for a complimentary evening of social dancing\, student demonstrations\, complimentary group classes and more!  \n\nWe are looking forward to meeting even more of you\, our neighbors\, your friends\, family members and co-workers!  Attendees will also be eligible for an Exclusive New Student Guest Offer!  .\n\nSpace is limited-so please RSVP to 773-697-8005 or via email to LakeviewInfo@ChicagoArthurMurray.com
X-ALT-DESC;FMTTYPE=text/html:<div>\n<div>\n<p>Have you been dreaming of&nbsp\;<strong>LEARNING TO DANCE</strong>&nbsp\;for months? ...Years? ...Your whole life?<br />\nDo you want an exciting new form of&nbsp\;<strong>EXERCISE</strong>?<br />\nAre you getting married and want to look &amp\; feel great dancing at your&nbsp\;<strong>WEDDING</strong>?<br />\nLooking for a stimulating&nbsp\;<strong>NEW HOBBY</strong>&nbsp\;or&nbsp\;<strong>DATE NIGHT</strong>?<br />\nOr are you simply curious about your new&nbsp\;<strong>NEIGHBORHOOD</strong>&nbsp\;Arthur Murray??</p>\n\n<p>Well\, this&nbsp\;is&nbsp\;<strong>YOUR OPPORTUNITY</strong>! &nbsp\;We want to welcome you from <strong>5:30-7:00pm on Saturday\, April 23rd</strong>&nbsp\;for a complimentary evening of social dancing\, student demonstrations\, complimentary group classes and more! &nbsp\;</p>\n\n<p>We are looking forward to meeting even more of you\, our neighbors\, your friends\, family members and co-workers! &nbsp\;Attendees will also be eligible for an <strong>Exclusive New Student Guest Offer</strong>! &nbsp\;.</p>\n\n<p>Space is limited-so please RSVP to 773-697-8005 or via email to LakeviewInfo@ChicagoArthurMurray.com</p>\n</div>\n</div>\n
LOCATION:Arthur Murray Lakeview 3301 N Lincoln Ave Chicago\, IL 60657
UID:e.1819.2893
SEQUENCE:3
DTSTAMP:20260422T132552Z
URL:https://members.lakeviewroscoevillage.org/events/details/spring-open-house-guest-party-04-23-2016-2893
END:VEVENT

END:VCALENDAR
