BEGIN:VCALENDAR
VERSION:2.0
PRODID:-//ChamberMaster//Event Calendar 2.0//EN
METHOD:PUBLISH
X-PUBLISHED-TTL:P3D
REFRESH-INTERVAL:P3D
CALSCALE:GREGORIAN
BEGIN:VEVENT
DTSTART:20150116T000000Z
DTEND:20150116T010000Z
X-MICROSOFT-CDO-ALLDAYEVENT:FALSE
SUMMARY:SSA 27 Commission Meeting
DESCRIPTION:
X-ALT-DESC;FMTTYPE=text/html:
LOCATION:Southport Grocery | 3552 N Southport Ave.
UID:e.1819.1327
SEQUENCE:3
DTSTAMP:20260423T190011Z
URL:https://members.lakeviewroscoevillage.org/events/details/ssa-27-commission-meeting-01-15-2015-1327
END:VEVENT

END:VCALENDAR
