BEGIN:VCALENDAR
VERSION:2.0
PRODID:-//ChamberMaster//Event Calendar 2.0//EN
METHOD:PUBLISH
X-PUBLISHED-TTL:P3D
REFRESH-INTERVAL:P3D
CALSCALE:GREGORIAN
BEGIN:VEVENT
DTSTART:20150723T133000Z
DTEND:20150723T143000Z
X-MICROSOFT-CDO-ALLDAYEVENT:FALSE
SUMMARY:SSA 27 Commission Meeting
DESCRIPTION:
X-ALT-DESC;FMTTYPE=text/html:
LOCATION:St. Luke Church | 1500 W Belmont Ave.
UID:e.1819.1328
SEQUENCE:3
DTSTAMP:20260423T060641Z
URL:https://members.lakeviewroscoevillage.org/events/details/ssa-27-commission-meeting-07-23-2015-1328
END:VEVENT

END:VCALENDAR
