BEGIN:VCALENDAR
VERSION:2.0
PRODID:-//ChamberMaster//Event Calendar 2.0//EN
METHOD:PUBLISH
X-PUBLISHED-TTL:P3D
REFRESH-INTERVAL:P3D
CALSCALE:GREGORIAN
BEGIN:VEVENT
DTSTART:20160707T133000Z
DTEND:20160707T143000Z
X-MICROSOFT-CDO-ALLDAYEVENT:FALSE
SUMMARY:SSA 27 Commission Meeting (Rescheduled)
DESCRIPTION:
X-ALT-DESC;FMTTYPE=text/html:
LOCATION:St. Luke Church | 1500 W. Belmont Ave
UID:e.1819.2848
SEQUENCE:3
DTSTAMP:20260422T093709Z
URL:https://members.lakeviewroscoevillage.org/events/details/ssa-27-commission-meeting-rescheduled-07-07-2016-2848
END:VEVENT

END:VCALENDAR
