BEGIN:VCALENDAR
VERSION:2.0
PRODID:-//ChamberMaster//Event Calendar 2.0//EN
METHOD:PUBLISH
X-PUBLISHED-TTL:P3D
REFRESH-INTERVAL:P3D
CALSCALE:GREGORIAN
BEGIN:VEVENT
DTSTART:20160416T130000Z
DTEND:20160416T170000Z
X-MICROSOFT-CDO-ALLDAYEVENT:FALSE
SUMMARY:St. Andrew Children's Garage Sale
DESCRIPTION:St. Andrew School Annual Children's Garage Sale - CASH ONLY Saturday\, April 16\, 2016 from 8 am - 12 noon Chicago - St. Andrew Gym on corner of Addison & Paulina Bargain Blowout: 11:30 - 12 noon only with $1 bags of clothing and items 50% off Admission: $1 Donation Great selection of infant to preteen clothes and shoes\, baby gear\, furniture and toys\, puzzles\, games and maternity clothing. Great bargains benefiting a great cause! Cash only.
X-ALT-DESC;FMTTYPE=text/html:St. Andrew School Annual Children&#39\;s Garage Sale - CASH ONLY Saturday\, April 16\, 2016 from 8 am - 12 noon Chicago - St. Andrew Gym on corner of Addison &amp\; Paulina Bargain Blowout: 11:30 - 12 noon only with $1 bags of clothing and items 50% off Admission: $1 Donation Great selection of infant to preteen clothes and shoes\, baby gear\, furniture and toys\, puzzles\, games and maternity clothing. Great bargains benefiting a great cause! Cash only.
LOCATION:St. Andrew School Gym - Corner of Addison & Paulina
UID:e.1819.2862
SEQUENCE:3
DTSTAMP:20260422T151735Z
URL:https://members.lakeviewroscoevillage.org/events/details/st-andrew-children-s-garage-sale-04-16-2016-2862
END:VEVENT

END:VCALENDAR
