BEGIN:VCALENDAR
VERSION:2.0
PRODID:-//ChamberMaster//Event Calendar 2.0//EN
METHOD:PUBLISH
X-PUBLISHED-TTL:P3D
REFRESH-INTERVAL:P3D
CALSCALE:GREGORIAN
BEGIN:VEVENT
DTSTART:20160813T230000Z
DTEND:20160814T023000Z
X-MICROSOFT-CDO-ALLDAYEVENT:FALSE
SUMMARY:St Benedict - All Class Reunion
DESCRIPTION:St. Benedict High School All Class Reunion BBQ. Eucharistic Liturgy St. Benedict Church 5:00pm - 6:00pm Courtyard Celebration 6:00pm - 9:30pm BBQ Dinner Cheeseburgers\, Hot Dogs\, Bratwurst\, Coleslaw\, Potato Salad\, Pasta Salad\, Dessert Beverages (Cash Bar) Beer\, Wine\, Soda\, Water
X-ALT-DESC;FMTTYPE=text/html:St. Benedict High School All Class Reunion BBQ. Eucharistic Liturgy St. Benedict Church 5:00pm - 6:00pm Courtyard Celebration 6:00pm - 9:30pm BBQ Dinner Cheeseburgers\, Hot Dogs\, Bratwurst\, Coleslaw\, Potato Salad\, Pasta Salad\, Dessert Beverages (Cash Bar) Beer\, Wine\, Soda\, Water
LOCATION:2215 W. Irving Park Road (Courtyard)
UID:e.1819.3508
SEQUENCE:3
DTSTAMP:20260422T061951Z
URL:https://members.lakeviewroscoevillage.org/events/details/st-benedict-all-class-reunion-08-13-2016-3508
END:VEVENT

END:VCALENDAR
